BEGIN:VCALENDAR
VERSION:2.0
PRODID:-//SPARK on the Circle - ECPv4.5.10.1//NONSGML v1.0//EN
CALSCALE:GREGORIAN
METHOD:PUBLISH
X-WR-CALNAME:SPARK on the Circle
X-ORIGINAL-URL:https://circlespark.org
X-WR-CALDESC:Events for SPARK on the Circle
BEGIN:VEVENT
DTSTART;TZID=America/Indiana/Indianapolis:20240619T100000
DTEND;TZID=America/Indiana/Indianapolis:20240619T133000
DTSTAMP:20260421T101030
CREATED:20240618T182617Z
LAST-MODIFIED:20240618T192219Z
UID:5881-1718791200-1718803800@circlespark.org
SUMMARY:Original Farmers Market on Monument Circle
DESCRIPTION:The Original Farmers’ Market brings together Indiana farmers\, producers\, and artisans who are providing the critical food access to the Indianapolis community.  The market is located in the South West Quadrant of Monument Circle\, next to SPARK! \nOriginal Farmers’ Market \n \n
URL:https://circlespark.org/event/original-farmers-market/
LOCATION:1 Monument Circle\, Indianapolis\, IN\, 46204\, United States
CATEGORIES:Monument Circle,Outdoor Activities,SPARK
ATTACH;FMTTYPE=image/jpeg:https://circlespark.org/wp-content/uploads/tempImagekWSYlH-e1718738468660.jpg
END:VEVENT
END:VCALENDAR