BEGIN:VCALENDAR
VERSION:2.0
PRODID:-//SPARK on the Circle - ECPv4.5.10.1//NONSGML v1.0//EN
CALSCALE:GREGORIAN
METHOD:PUBLISH
X-WR-CALNAME:SPARK on the Circle
X-ORIGINAL-URL:https://circlespark.org
X-WR-CALDESC:Events for SPARK on the Circle
BEGIN:VEVENT
DTSTART;TZID=America/Indiana/Indianapolis:20240717T120000
DTEND;TZID=America/Indiana/Indianapolis:20240717T130000
DTSTAMP:20260420T084440
CREATED:20240620T210038Z
LAST-MODIFIED:20240702T173511Z
UID:5932-1721217600-1721221200@circlespark.org
SUMMARY:Lunch Break Live With Allison Victoria Presented by Lake City Bank
DESCRIPTION:Join SPARK for a Lunch Break concert from local musician Allison Victoria! \nPresented by Lake City Bank \nWe at Big Car are teaming up with Downtown Indy and the City of Indianapolis — with support from the Capital Improvement Board and the Indiana War Memorials Commission— to spark Monument Circle with human-scale activities like games\, live music\, artmaking\, and socializing in a comfortable place.\n\nSPARK on the Circle is an ongoing partnership between Big Car Collaborative\, Downtown Indy\, City of Indianapolis Department of Metropolitan Development\, the Capital Improvement Board\, and the Indiana War Memorials Commission.\n
URL:https://circlespark.org/event/lunch-break-live-with-allison-victoria-presented-by-lake-city-bank/
LOCATION:1 Monument Circle\, Indianapolis \, IN\, 46204\, United States
CATEGORIES:Monument Circle,Music,Outdoor Activities,SPARK
ATTACH;FMTTYPE=image/jpeg:https://circlespark.org/wp-content/uploads/290375870_447313334064826_1375572736267609173_n.jpg
END:VEVENT
END:VCALENDAR