BEGIN:VCALENDAR
VERSION:2.0
PRODID:-//SPARK on the Circle - ECPv4.5.10.1//NONSGML v1.0//EN
CALSCALE:GREGORIAN
METHOD:PUBLISH
X-WR-CALNAME:SPARK on the Circle
X-ORIGINAL-URL:https://circlespark.org
X-WR-CALDESC:Events for SPARK on the Circle
BEGIN:VEVENT
DTSTART;TZID=America/Indiana/Indianapolis:20240605T120000
DTEND;TZID=America/Indiana/Indianapolis:20240605T130000
DTSTAMP:20260420T083824
CREATED:20240522T201156Z
LAST-MODIFIED:20240523T180005Z
UID:5778-1717588800-1717592400@circlespark.org
SUMMARY:Lunch Break Live Scrapper and Skelton
DESCRIPTION:Scrapper and Skelton Description: Guitarist/Singer/Songwriter Steve “Scrapper” Brown has over 55 years as a solo musician and bandleader. Blessed with a smooth baritone voice steeped in Blues/Jazz\, Gospel and Funk\, Brown brings a wealth of experience and versatility to the stage. He has appeared on 6 CDs including songwriting and production credits. \nBlues Harmonica/Vocals Ken Skelton is a Blues enthusiast with a love for classic acoustic Blues. Skelton has received local recognition for his performances in the genre in which he hopes “not only entertains\, but produces thought in the listener.  \nSPARK is a partnership with Downtown Indy @downtownindy the City of Indianapolis @indy_dmd and the Indiana War Memorials Commission – and funded by the Capital Improvements Board. It is a continuation of our work last year and in 2015 on the Circle.\nAt Big Car\, we approach our work at the Circle as a site- and community-specific socially engaged art and creative placemaking project. The SPARK on the Circle pop-up park was collaboratively designed with Indianapolis-based Merritt Chase to be a restorative public place where people of all walks of life can relax\, play\, socialize\, and engage with art and artists in the heart of our city. \n
URL:https://circlespark.org/event/lunch-break-live-scrapper-and-skelton/
LOCATION:1 Monument Circle\, Indianapolis \, IN\, 46204\, United States
CATEGORIES:Monument Circle,SPARK
ATTACH;FMTTYPE=image/jpeg:https://circlespark.org/wp-content/uploads/0BA4C595-6669-414E-A2C7-15684FF9DE09IMG_2298.jpg
END:VEVENT
END:VCALENDAR