BEGIN:VCALENDAR
VERSION:2.0
PRODID:-//SPARK on the Circle - ECPv4.5.10.1//NONSGML v1.0//EN
CALSCALE:GREGORIAN
METHOD:PUBLISH
X-WR-CALNAME:SPARK on the Circle
X-ORIGINAL-URL:https://circlespark.org
X-WR-CALDESC:Events for SPARK on the Circle
BEGIN:VEVENT
DTSTART;TZID=America/Indiana/Indianapolis:20150906T093000
DTEND;TZID=America/Indiana/Indianapolis:20150906T123000
DTSTAMP:20260421T112145
CREATED:20150829T041248Z
LAST-MODIFIED:20150829T041454Z
UID:4198-1441531800-1441542600@circlespark.org
SUMMARY:ActiveIndy Guided Bike Tour: Cultural Trail & Historic Neighborhoods
DESCRIPTION:During Spark\, the Circle is the launching point for ActiveIndy Tours’ most popular tour – a guided bicycle tour of the Indianapolis Cultural Trail & Historic Neighborhoods!  This tour covers 10 miles at a casual pace allowing you to explore downtown while learning about our city’s history\, architecture\, public art & connections to pop culture.  Rental bicycles available & advance registration required for this fee-based tour. Get details and sign up here.\n  \n
URL:https://circlespark.org/event/activeindy-guided-bike-tour-cultural-trail-historic-neighborhoods-2/
LOCATION:1 Monument Circle\, Indianapolis\, IN\, 46204\, United States
CATEGORIES:Health & Fitness,Monument Circle,Outdoor Activities,SPARK
ATTACH;FMTTYPE=image/jpeg:https://circlespark.org/wp-content/uploads/ActiveIndy.jpg
END:VEVENT
END:VCALENDAR