BEGIN:VCALENDAR
VERSION:2.0
PRODID:-//SPARK on the Circle - ECPv4.5.10.1//NONSGML v1.0//EN
CALSCALE:GREGORIAN
METHOD:PUBLISH
X-WR-CALNAME:SPARK on the Circle
X-ORIGINAL-URL:https://circlespark.org
X-WR-CALDESC:Events for SPARK on the Circle
BEGIN:VEVENT
DTSTART;TZID=America/Indiana/Indianapolis:20250705T130000
DTEND;TZID=America/Indiana/Indianapolis:20250705T150000
DTSTAMP:20260421T085009
CREATED:20250529T180908Z
LAST-MODIFIED:20250625T200855Z
UID:6591-1751720400-1751727600@circlespark.org
SUMMARY:38th Infantry Division Band Summer Concert Series
DESCRIPTION:
URL:https://circlespark.org/event/38th-infantry-division-band-summer-concert-series/
CATEGORIES:Downtown Indy,Monument Circle,Music,Outdoor Activities,SPARK
ATTACH;FMTTYPE=image/jpeg:https://circlespark.org/wp-content/uploads/Downtown-Individual-AT-Poster-FINAL.jpg
END:VEVENT
END:VCALENDAR