BEGIN:VCALENDAR
VERSION:2.0
PRODID:-//SPARK on the Circle - ECPv4.5.10.1//NONSGML v1.0//EN
CALSCALE:GREGORIAN
METHOD:PUBLISH
X-WR-CALNAME:SPARK on the Circle
X-ORIGINAL-URL:http://circlespark.org
X-WR-CALDESC:Events for SPARK on the Circle
BEGIN:VEVENT
DTSTART;TZID=America/Indiana/Indianapolis:20150917T110000
DTEND;TZID=America/Indiana/Indianapolis:20150917T130000
DTSTAMP:20260420T001214
CREATED:20150911T221408Z
LAST-MODIFIED:20150911T222451Z
UID:4366-1442487600-1442494800@circlespark.org
SUMMARY:Workforce Week: Thank You Thursday
DESCRIPTION:We want to thank YOU for being a part of Indy’s strong\, hardworking workforce. Join us on Georgia Street from 11am-1pm for relaxation and pay-it-forward activities! Enjoy a FREE massage and de-stress by playing with some furry\, adoptable four-legged friends from the city’s Animal Care and Control. While you’re down here\, pay-it-forward and unleash your creative side by making “Thank You” or “Get Well” cards for our veterans and Riley Hospital patients. \n
URL:http://circlespark.org/event/workforce-week-thank-you-thursday/
LOCATION:W. Georgia Street\, Indianapolis \, IN\, 46204\, United States
CATEGORIES:Outdoor Activities
ATTACH;FMTTYPE=image/jpeg:http://circlespark.org/wp-content/uploads/thankyouthursday.jpg
END:VEVENT
END:VCALENDAR