BEGIN:VCALENDAR
VERSION:2.0
PRODID:-//SPARK on the Circle - ECPv4.5.10.1//NONSGML v1.0//EN
CALSCALE:GREGORIAN
METHOD:PUBLISH
X-WR-CALNAME:SPARK on the Circle
X-ORIGINAL-URL:http://circlespark.org
X-WR-CALDESC:Events for SPARK on the Circle
BEGIN:VEVENT
DTSTART;TZID=America/Indiana/Indianapolis:20150819T183000
DTEND;TZID=America/Indiana/Indianapolis:20150819T200000
DTSTAMP:20260420T025050
CREATED:20150721T025024Z
LAST-MODIFIED:20150731T042723Z
UID:3367-1440009000-1440014400@circlespark.org
SUMMARY:Theme Walk: Virginia Avenue
DESCRIPTION:Virginia Avenue boasts many historic buildings as one of Indy’s first most important streets. Explore what the avenue has to offer during this themed walk led by Connie Zeigler. \n
URL:http://circlespark.org/event/theme-walk-virginia-avenue-3/
LOCATION:1 Monument Circle\, Indianapolis\, IN\, 46204\, United States
CATEGORIES:Monument Circle
END:VEVENT
END:VCALENDAR