BEGIN:VCALENDAR
VERSION:2.0
PRODID:-//SPARK on the Circle - ECPv4.5.10.1//NONSGML v1.0//EN
CALSCALE:GREGORIAN
METHOD:PUBLISH
X-WR-CALNAME:SPARK on the Circle
X-ORIGINAL-URL:http://circlespark.org
X-WR-CALDESC:Events for SPARK on the Circle
BEGIN:VEVENT
DTSTART;TZID=America/Indiana/Indianapolis:20150902T183000
DTEND;TZID=America/Indiana/Indianapolis:20150902T200000
DTSTAMP:20260419T210145
CREATED:20150721T025024Z
LAST-MODIFIED:20150729T192638Z
UID:3362-1441218600-1441224000@circlespark.org
SUMMARY:Theme Walk: Mass Ave
DESCRIPTION:Massachusetts Avenue is certainly one of our city’s hangout hotspots. See why during this themed walk with Eric Strickland. \n
URL:http://circlespark.org/event/theme-walk-mass-ave-3/
LOCATION:1 Monument Circle\, Indianapolis\, IN\, 46204\, United States
CATEGORIES:Monument Circle
END:VEVENT
END:VCALENDAR