BEGIN:VCALENDAR
VERSION:2.0
PRODID:-//SPARK on the Circle - ECPv4.5.10.1//NONSGML v1.0//EN
CALSCALE:GREGORIAN
METHOD:PUBLISH
X-WR-CALNAME:SPARK on the Circle
X-ORIGINAL-URL:http://circlespark.org
X-WR-CALDESC:Events for SPARK on the Circle
BEGIN:VEVENT
DTSTART;TZID=America/Indiana/Indianapolis:20150826T183000
DTEND;TZID=America/Indiana/Indianapolis:20150826T200000
DTSTAMP:20260419T222001
CREATED:20150721T025024Z
LAST-MODIFIED:20150731T042723Z
UID:3361-1440613800-1440619200@circlespark.org
SUMMARY:Theme Walk: Indy Oddities
DESCRIPTION:Believe it or not\, Indy is full of oddities. Explore what’s weird with Kipp Normand on this themed walk. Are you sensing some great photo opportunities? \n
URL:http://circlespark.org/event/theme-walk-indy-oddities-3/
LOCATION:1 Monument Circle\, Indianapolis\, IN\, 46204\, United States
CATEGORIES:Monument Circle
END:VEVENT
END:VCALENDAR