BEGIN:VCALENDAR
VERSION:2.0
PRODID:-//SPARK on the Circle - ECPv4.5.10.1//NONSGML v1.0//EN
CALSCALE:GREGORIAN
METHOD:PUBLISH
X-WR-CALNAME:SPARK on the Circle
X-ORIGINAL-URL:http://circlespark.org
X-WR-CALDESC:Events for SPARK on the Circle
BEGIN:VEVENT
DTSTART;TZID=America/Indiana/Indianapolis:20241221T160000
DTEND;TZID=America/Indiana/Indianapolis:20241221T200000
DTSTAMP:20260420T205949
CREATED:20241112T193637Z
LAST-MODIFIED:20241113T174825Z
UID:6344-1734796800-1734811200@circlespark.org
SUMMARY:SPARK: Holidays on the Circle
DESCRIPTION:Celebrate the holidays with SPARK on the Circle this year! 🎅🎄☃️❄️ \n\nVibe to a live guitar performance from Adam Shuntich from 5-6pm\nView the magical Circle of Lights display\, an Indianapolis tradition\nGet pictures with Santa at Santa’s workshop photo station\nBuy special holiday treats at the Container Cafe\n\nAt the Northwest quad of Monument Circle \n4-8pm\, Saturdays & Sundays\, Nov. 30 – Dec. 22 \n
URL:http://circlespark.org/event/spark-holidays-on-the-circle-7/
ATTACH;FMTTYPE=image/jpeg:http://circlespark.org/wp-content/uploads/SPARK-Holidays-2024.jpg
END:VEVENT
END:VCALENDAR