BEGIN:VCALENDAR
VERSION:2.0
PRODID:-//SPARK on the Circle - ECPv4.5.10.1//NONSGML v1.0//EN
CALSCALE:GREGORIAN
METHOD:PUBLISH
X-WR-CALNAME:SPARK on the Circle
X-ORIGINAL-URL:http://circlespark.org
X-WR-CALDESC:Events for SPARK on the Circle
BEGIN:VEVENT
DTSTART;TZID=America/Indiana/Indianapolis:20150821T120000
DTEND;TZID=America/Indiana/Indianapolis:20150821T123000
DTSTAMP:20260424T044849
CREATED:20150731T031105Z
LAST-MODIFIED:20150807T031230Z
UID:3813-1440158400-1440160200@circlespark.org
SUMMARY:Random Acts of Music: Violinists Johna Bradley Smith and Sarah Drake
DESCRIPTION:Don’t miss out on the soothing sounds of violins! This pop-up classical music concert is presented by Classical Music Indy and features Violinists Johna Bradley Smith and Sarah Drake. \nLearn more about Classical Music Indy. \n
URL:http://circlespark.org/event/random-acts-of-music-violinists-johna-bradley-smith-and-sarah-drake/
LOCATION:1 Monument Circle\, Indianapolis\, IN\, 46204\, United States
CATEGORIES:Category
END:VEVENT
END:VCALENDAR