BEGIN:VCALENDAR
VERSION:2.0
PRODID:-//SPARK on the Circle - ECPv4.5.10.1//NONSGML v1.0//EN
CALSCALE:GREGORIAN
METHOD:PUBLISH
X-WR-CALNAME:SPARK on the Circle
X-ORIGINAL-URL:http://circlespark.org
X-WR-CALDESC:Events for SPARK on the Circle
BEGIN:VEVENT
DTSTART;TZID=America/Indiana/Indianapolis:20150922T180000
DTEND;TZID=America/Indiana/Indianapolis:20150922T200000
DTSTAMP:20260419T140602
CREATED:20150814T155245Z
LAST-MODIFIED:20150909T201652Z
UID:4046-1442944800-1442952000@circlespark.org
SUMMARY:Rad Grrls Club
DESCRIPTION:Rad Grrls Club is a gathering of female artists who take time to share and work on our art projects.  Current project is a Rad Grrls Zine about nerdy feminism. Need a creative prompt? The Rad Grrls have one for you. \nEverybody is invited to show up and be creative with the Rad Grrls at Spark — look for them at a picnic table on Tuesdays! \n
URL:http://circlespark.org/event/rad-grrls-club-7/
LOCATION:1 Monument Circle\, Indianapolis\, IN\, 46204\, United States
CATEGORIES:Monument Circle
ATTACH;FMTTYPE=image/jpeg:http://circlespark.org/wp-content/uploads/20511855839_a8b2c65485_h.jpg
END:VEVENT
END:VCALENDAR