BEGIN:VCALENDAR
VERSION:2.0
PRODID:-//SPARK on the Circle - ECPv4.5.10.1//NONSGML v1.0//EN
CALSCALE:GREGORIAN
METHOD:PUBLISH
X-WR-CALNAME:SPARK on the Circle
X-ORIGINAL-URL:http://circlespark.org
X-WR-CALDESC:Events for SPARK on the Circle
BEGIN:VEVENT
DTSTART;TZID=America/Indiana/Indianapolis:20150828T200000
DTEND;TZID=America/Indiana/Indianapolis:20150828T220000
DTSTAMP:20260420T034702
CREATED:20150610T170022Z
LAST-MODIFIED:20150729T173146Z
UID:2381-1440792000-1440799200@circlespark.org
SUMMARY:The Cabaret Presents... Norm Lewis: Who Am I?
DESCRIPTION:“Just about everything a leading man with a mighty voice should be.” –New York Times \nTony nominee\, Norm Lewis\, presents an evening dedicated to the way-paving singers and songwriters who inspire him. Lewis has starred in Broadway’s The Gershwin’s’ Porgy and Bess\, the 25th anniversary staging of Les Misérables\, the original cast of Side Show\, The Little Mermaid\, Chicago\, Sondheim on Sondheim and was the first African American to play in the starring role of The Phantom of the Opera. \n
URL:http://circlespark.org/event/norm-lewis-who-am-i-3/
CATEGORIES:Monument Circle
ATTACH;FMTTYPE=:
END:VEVENT
END:VCALENDAR