BEGIN:VCALENDAR
VERSION:2.0
PRODID:-//SPARK on the Circle - ECPv4.5.10.1//NONSGML v1.0//EN
CALSCALE:GREGORIAN
METHOD:PUBLISH
X-WR-CALNAME:SPARK on the Circle
X-ORIGINAL-URL:http://circlespark.org
X-WR-CALDESC:Events for SPARK on the Circle
BEGIN:VEVENT
DTSTART;TZID=America/Indiana/Indianapolis:20151004T110000
DTEND;TZID=America/Indiana/Indianapolis:20151004T130000
DTSTAMP:20260421T083727
CREATED:20150814T020129Z
LAST-MODIFIED:20150924T013753Z
UID:3890-1443956400-1443963600@circlespark.org
SUMMARY:Musical Family Tree presents Nat Russell & Chris Vorhees
DESCRIPTION:Longtime friends and collaborators in art and music\, Nat Russell and Chris Vorhees\, will be playing a noon-time tailgate session at Monument Circle. As the Colts rally to beat the Jacksonville Jaguars\, Nat and Chris will perform an hour long set sure to rev up whoever attends. A tailgate barbeque on the trailer known as the Wagon of Wonders will take place around 11am. BYOB and G(rill items). Nat and Chris will be playing selections from Nat’s “Birds of America” archive along with several new pieces and some covers. \nPresented by Musical Family Tree and Big Car. \n
URL:http://circlespark.org/event/musical-family-tree-presents-nat-russell-and-chris-voorhees/
LOCATION:1 Monument Circle\, Indianapolis\, IN\, 46204\, United States
CATEGORIES:Monument Circle,Music,SPARK
ATTACH;FMTTYPE=image/png:http://circlespark.org/wp-content/uploads/mft_logo_small.png
END:VEVENT
END:VCALENDAR