BEGIN:VCALENDAR
VERSION:2.0
PRODID:-//SPARK on the Circle - ECPv4.5.10.1//NONSGML v1.0//EN
CALSCALE:GREGORIAN
METHOD:PUBLISH
X-WR-CALNAME:SPARK on the Circle
X-ORIGINAL-URL:http://circlespark.org
X-WR-CALDESC:Events for SPARK on the Circle
BEGIN:VEVENT
DTSTART;TZID=America/Indiana/Indianapolis:20151011T170000
DTEND;TZID=America/Indiana/Indianapolis:20151011T180000
DTSTAMP:20260419T124917
CREATED:20150814T022409Z
LAST-MODIFIED:20150918T180602Z
UID:3893-1444582800-1444586400@circlespark.org
SUMMARY:Musical Family Tree presents HNRYFRD
DESCRIPTION:Bring a friend\, pull up a chair\, and enjoy experimental electronic noise with ambient moments in this free live concert right on Monument Circle! \nLearn more about HNRYFRD. \nLearn more about how Musical Family Tree makes it their mission to spread Indiana music! \n
URL:http://circlespark.org/event/musical-family-tree-presents-hnryfrd/
LOCATION:1 Monument Circle\, Indianapolis\, IN\, 46204\, United States
CATEGORIES:Monument Circle,Music
ATTACH;FMTTYPE=image/jpeg:http://circlespark.org/wp-content/uploads/a3560404734_10.jpg
END:VEVENT
END:VCALENDAR