BEGIN:VCALENDAR
VERSION:2.0
PRODID:-//SPARK on the Circle - ECPv4.5.10.1//NONSGML v1.0//EN
CALSCALE:GREGORIAN
METHOD:PUBLISH
X-WR-CALNAME:SPARK on the Circle
X-ORIGINAL-URL:http://circlespark.org
X-WR-CALDESC:Events for SPARK on the Circle
BEGIN:VEVENT
DTSTART;TZID=America/Indiana/Indianapolis:20241003T160000
DTEND;TZID=America/Indiana/Indianapolis:20241003T220000
DTSTAMP:20260421T012255
CREATED:20241003T195457Z
LAST-MODIFIED:20241003T200257Z
UID:6263-1727971200-1727992800@circlespark.org
SUMMARY:Late Nights at SPARK - Oct. 3
DESCRIPTION:SPARK on the Circle will be open until 10pm for “Late Nights at SPARK” on Thursday\, Oct. 3\, 2024! \n  \nThe schedule is as follows: \nOct. 3\n– 4-6pm: Photo printmaking workshop with SPARK Staff Artist Sarah Montanez Hidalgo\n– 6:30-8:30pm: Live WQRT DJ MIX with Averie Chávez of “CoolYum Radio” \n  \nWe hope to see you there! 🌃🌙 \n  \nFollow @SparkPlaces on Instagram for updates \n
URL:http://circlespark.org/event/late-nights-at-spark-oct-3/
ATTACH;FMTTYPE=image/png:http://circlespark.org/wp-content/uploads/Late-Nights-at-SPARK-2-1.png
END:VEVENT
END:VCALENDAR