BEGIN:VCALENDAR
VERSION:2.0
PRODID:-//SPARK on the Circle - ECPv4.5.10.1//NONSGML v1.0//EN
CALSCALE:GREGORIAN
METHOD:PUBLISH
X-WR-CALNAME:SPARK on the Circle
X-ORIGINAL-URL:http://circlespark.org
X-WR-CALDESC:Events for SPARK on the Circle
BEGIN:VEVENT
DTSTART;TZID=America/Indiana/Indianapolis:20150919T073000
DTEND;TZID=America/Indiana/Indianapolis:20150919T120000
DTSTAMP:20260419T152218
CREATED:20150610T153551Z
LAST-MODIFIED:20150610T153551Z
UID:2405-1442647800-1442664000@circlespark.org
SUMMARY:Indy Women's Half Marathon
DESCRIPTION:The Indy Women’s Half Marathon was introduced to the central Indiana running community in August 2010 as the first women’s only half marathon in Indiana. In just four years\, it has become the largest women’s running event in the state and a top-35 women’s only half marathon in the U.S. \n**This run passes through the south half of Monument Circle. \n
URL:http://circlespark.org/event/indy-womens-half-marathon/
CATEGORIES:Monument Circle
ATTACH;FMTTYPE=:
END:VEVENT
END:VCALENDAR