BEGIN:VCALENDAR
VERSION:2.0
PRODID:-//SPARK on the Circle - ECPv4.5.10.1//NONSGML v1.0//EN
CALSCALE:GREGORIAN
METHOD:PUBLISH
X-WR-CALNAME:SPARK on the Circle
X-ORIGINAL-URL:http://circlespark.org
X-WR-CALDESC:Events for SPARK on the Circle
BEGIN:VEVENT
DTSTART;TZID=America/Indiana/Indianapolis:20230809T160000
DTEND;TZID=America/Indiana/Indianapolis:20230809T180000
DTSTAMP:20260421T213234
CREATED:20230731T190706Z
LAST-MODIFIED:20230807T145626Z
UID:5195-1691596800-1691604000@circlespark.org
SUMMARY:Bananas for the people!
DESCRIPTION:Free bananas\, passed out by a giant banana! \nPerformance art by Joan Wyand \nBio: \nI am a human. I am a teacher\, performance artist\, experienced collaborator\, and skilled maker.  I see our collective conditioning that is causing harm\, and how we uphold systemic injustice in our everyday actions. My creative purpose is to call attention to how we can internally and interpersonally move forward in new ways to care for the earth. \nBananas for the people is an absurdist performance meant to bring joy while feeding the Monument Circle Community. \n \n
URL:http://circlespark.org/event/bananas-for-the-people/
END:VEVENT
END:VCALENDAR