BEGIN:VCALENDAR
VERSION:2.0
PRODID:-//SPARK on the Circle - ECPv4.5.10.1//NONSGML v1.0//EN
CALSCALE:GREGORIAN
METHOD:PUBLISH
X-WR-CALNAME:SPARK on the Circle
X-ORIGINAL-URL:http://circlespark.org
X-WR-CALDESC:Events for SPARK on the Circle
BEGIN:VEVENT
DTSTART;TZID=America/Indiana/Indianapolis:20250926T120000
DTEND;TZID=America/Indiana/Indianapolis:20250926T140000
DTSTAMP:20260420T072635
CREATED:20250829T150533Z
LAST-MODIFIED:20260213T201048Z
UID:6922-1758888000-1758895200@circlespark.org
SUMMARY:Grid Art Workshop with Kassie Woodworth
DESCRIPTION:Learn to scale a drawing:\nOn September 26\, artist Kassie Woodworth will host an interactive art activity on Monument\nCircle that invites participants to explore the process of scaling a drawing from paper to a larger\nformat. Each participant will receive a sheet of paper to create their own sketch. Using the\ntraditional grid method—commonly used by muralists and large-scale artists—they will then\ntransfer their design onto the ground with chalk\, creating a larger version of their artwork. This\nactivity offers a hands-on introduction to a classic artist’s tool while encouraging creativity and\nplayful experimentation in a public space. \nKassie Woodworth (she/her) is a local visual artist working in drawing and sculpture. Her work\ncan be viewed at www.kassiewoodworth.com or on social media @kassiewoodworth.art. \n
URL:http://circlespark.org/event/grid-art-activation-with-kassie-woodworth/
ATTACH;FMTTYPE=image/jpeg:http://circlespark.org/wp-content/uploads/c-1718374668191-personal_kassie_woodworth_headshot.jpg
END:VEVENT
BEGIN:VEVENT
DTSTART;TZID=America/Indiana/Indianapolis:20250926T170000
DTEND;TZID=America/Indiana/Indianapolis:20250926T180000
DTSTAMP:20260420T072635
CREATED:20250814T194443Z
LAST-MODIFIED:20250814T194553Z
UID:6887-1758906000-1758909600@circlespark.org
SUMMARY:Puppet Show: "What Nature Brings"
DESCRIPTION:\n\n\n\n\nJoin us for an exciting and fantastical puppet performance at SPARK!\n\n\n\n\n\n\n\n\n\nWhat Nature Brings is a puppet show focused on Indiana folklore with the intergenerational wisdom\n\n\n\n\n\nthat is forever changing how we treat the Earth. \n\n\n\nThe show is 15 minutes long\, and performances are at the top of the hour at 5 p.m. and 6 p.m.\n\nAudio by Clockwork Janz and Play by Sylvia Thomas\n\n\n\n\n\n
URL:http://circlespark.org/event/puppetshow/
ATTACH;FMTTYPE=image/jpeg:http://circlespark.org/wp-content/uploads/IMG_9405.jpg
END:VEVENT
END:VCALENDAR