BEGIN:VCALENDAR
VERSION:2.0
PRODID:-//SPARK on the Circle - ECPv4.5.10.1//NONSGML v1.0//EN
CALSCALE:GREGORIAN
METHOD:PUBLISH
X-WR-CALNAME:SPARK on the Circle
X-ORIGINAL-URL:http://circlespark.org
X-WR-CALDESC:Events for SPARK on the Circle
BEGIN:VEVENT
DTSTART;TZID=America/Indiana/Indianapolis:20250924T100000
DTEND;TZID=America/Indiana/Indianapolis:20250924T133000
DTSTAMP:20260420T072610
CREATED:20250806T175843Z
LAST-MODIFIED:20250806T175907Z
UID:6879-1758708000-1758720600@circlespark.org
SUMMARY:Artist Workshop: Pom-poms with Mary Jo
DESCRIPTION:
URL:http://circlespark.org/event/artist-workshop-pom-poms-with-mary-jo-5/
ATTACH;FMTTYPE=image/jpeg:http://circlespark.org/wp-content/uploads/54256869830_e9e49caa0a_o.jpg
END:VEVENT
BEGIN:VEVENT
DTSTART;TZID=America/Indiana/Indianapolis:20250924T120000
DTEND;TZID=America/Indiana/Indianapolis:20250924T130000
DTSTAMP:20260420T072610
CREATED:20250806T175731Z
LAST-MODIFIED:20250806T175731Z
UID:6875-1758715200-1758718800@circlespark.org
SUMMARY:Lunch Break Live! presented by Lake City Bank with Allison Victoria
DESCRIPTION:
URL:http://circlespark.org/event/lunch-break-live-presented-by-lake-city-bank-with-allison-victoria/
ATTACH;FMTTYPE=image/jpeg:http://circlespark.org/wp-content/uploads/134375735_web1_20250212cr-allison-victoria-696x464.jpg
END:VEVENT
END:VCALENDAR