BEGIN:VCALENDAR
VERSION:2.0
PRODID:-//SPARK on the Circle - ECPv4.5.10.1//NONSGML v1.0//EN
CALSCALE:GREGORIAN
METHOD:PUBLISH
X-WR-CALNAME:SPARK on the Circle
X-ORIGINAL-URL:http://circlespark.org
X-WR-CALDESC:Events for SPARK on the Circle
BEGIN:VEVENT
DTSTART;TZID=America/Indiana/Indianapolis:20250913T120000
DTEND;TZID=America/Indiana/Indianapolis:20250913T140000
DTSTAMP:20260420T072707
CREATED:20250806T175215Z
LAST-MODIFIED:20250806T175215Z
UID:6871-1757764800-1757772000@circlespark.org
SUMMARY:Artist Workshop: Ceramic Painting with Stephanie Williams
DESCRIPTION:
URL:http://circlespark.org/event/artist-workshop-ceramic-painting-with-stephanie-williams/
ATTACH;FMTTYPE=image/jpeg:http://circlespark.org/wp-content/uploads/throwing-1024x461-1.jpg
END:VEVENT
BEGIN:VEVENT
DTSTART;TZID=America/Indiana/Indianapolis:20250913T160000
DTEND;TZID=America/Indiana/Indianapolis:20250913T180000
DTSTAMP:20260420T072707
CREATED:20250828T191612Z
LAST-MODIFIED:20250828T191612Z
UID:6895-1757779200-1757786400@circlespark.org
SUMMARY:Artist Workshop: Fantasy Animals with Dillion Imel
DESCRIPTION:Join us in making Fantasy Animals using various supplies provided! \n
URL:http://circlespark.org/event/artist-workshop-fantasy-animals-with-dillion-imel/
CATEGORIES:SPARK
END:VEVENT
END:VCALENDAR