BEGIN:VCALENDAR
VERSION:2.0
PRODID:-//SPARK on the Circle - ECPv4.5.10.1//NONSGML v1.0//EN
CALSCALE:GREGORIAN
METHOD:PUBLISH
X-WR-CALNAME:SPARK on the Circle
X-ORIGINAL-URL:http://circlespark.org
X-WR-CALDESC:Events for SPARK on the Circle
BEGIN:VEVENT
DTSTART;TZID=America/Indiana/Indianapolis:20250910T100000
DTEND;TZID=America/Indiana/Indianapolis:20250910T133000
DTSTAMP:20260420T072518
CREATED:20250806T174930Z
LAST-MODIFIED:20250806T174930Z
UID:6867-1757498400-1757511000@circlespark.org
SUMMARY:Artist Workshop: Pom-poms with Mary Jo
DESCRIPTION:
URL:http://circlespark.org/event/artist-workshop-pom-poms-with-mary-jo-4/
ATTACH;FMTTYPE=image/jpeg:http://circlespark.org/wp-content/uploads/54256869830_e9e49caa0a_o.jpg
END:VEVENT
BEGIN:VEVENT
DTSTART;TZID=America/Indiana/Indianapolis:20250910T120000
DTEND;TZID=America/Indiana/Indianapolis:20250910T130000
DTSTAMP:20260420T072518
CREATED:20250806T174828Z
LAST-MODIFIED:20250806T174828Z
UID:6864-1757505600-1757509200@circlespark.org
SUMMARY:Lunch Break Live! presented by Lake City Bank with Joshua Silbert
DESCRIPTION:
URL:http://circlespark.org/event/lunch-break-live-presented-by-lake-city-bank-with-joshua-silbert/
ATTACH;FMTTYPE=image/jpeg:http://circlespark.org/wp-content/uploads/467850779_10232940708713864_708341226195137756_n.jpg
END:VEVENT
END:VCALENDAR