BEGIN:VCALENDAR
VERSION:2.0
PRODID:-//SPARK on the Circle - ECPv4.5.10.1//NONSGML v1.0//EN
CALSCALE:GREGORIAN
METHOD:PUBLISH
X-WR-CALNAME:SPARK on the Circle
X-ORIGINAL-URL:http://circlespark.org
X-WR-CALDESC:Events for SPARK on the Circle
BEGIN:VEVENT
DTSTART;TZID=America/Indiana/Indianapolis:20250827T100000
DTEND;TZID=America/Indiana/Indianapolis:20250827T133000
DTSTAMP:20260422T084439
CREATED:20250724T190824Z
LAST-MODIFIED:20250724T190824Z
UID:6832-1756288800-1756301400@circlespark.org
SUMMARY:Original Farmers’ Market
DESCRIPTION:The Original Farmers’ Market brings together Indiana farmers\, producers\, and artisans who are providing the critical food access to the Indianapolis community.  The market is located in the South West Quadrant of Monument Circle\, next to SPARK! \n
URL:http://circlespark.org/event/original-farmers-market-13/
ATTACH;FMTTYPE=image/jpeg:http://circlespark.org/wp-content/uploads/tempImagekWSYlH-e1718738468660.jpg
END:VEVENT
BEGIN:VEVENT
DTSTART;TZID=America/Indiana/Indianapolis:20250827T120000
DTEND;TZID=America/Indiana/Indianapolis:20250827T130000
DTSTAMP:20260422T084439
CREATED:20250724T191259Z
LAST-MODIFIED:20250725T133734Z
UID:6834-1756296000-1756299600@circlespark.org
SUMMARY:Lunch Break Live! presented by Lake City Bank with Gary Martinez
DESCRIPTION:Gary Martinez is a musician and audio engineer based out of east Indianapolis. Along with operating his recording studio\, Warren Park Audio\, current projects include playing in the jazzy trip-hop trio Tile\, lead guitar in the indie rock band Hoodwink\, and a raucous techno project called Silverfish. Gary’s solo guitar performances are always uniquely setup and the music is improvised\, leaving him free to play whatever is felt at the moment and get lost in the sounds that are unfolding. \n
URL:http://circlespark.org/event/lunch-break-live-presented-by-lake-city-bank-with-gary-martinez/
ATTACH;FMTTYPE=image/jpeg:http://circlespark.org/wp-content/uploads/1000009575.jpg
END:VEVENT
END:VCALENDAR