BEGIN:VCALENDAR
VERSION:2.0
PRODID:-//SPARK on the Circle - ECPv4.5.10.1//NONSGML v1.0//EN
CALSCALE:GREGORIAN
METHOD:PUBLISH
X-WR-CALNAME:SPARK on the Circle
X-ORIGINAL-URL:http://circlespark.org
X-WR-CALDESC:Events for SPARK on the Circle
BEGIN:VEVENT
DTSTART;TZID=America/Indiana/Indianapolis:20250820T100000
DTEND;TZID=America/Indiana/Indianapolis:20250820T133000
DTSTAMP:20260420T085853
CREATED:20250724T190203Z
LAST-MODIFIED:20250724T190216Z
UID:6823-1755684000-1755696600@circlespark.org
SUMMARY:Original Farmers’ Market
DESCRIPTION:The Original Farmers’ Market brings together Indiana farmers\, producers\, and artisans who are providing the critical food access to the Indianapolis community.  The market is located in the South West Quadrant of Monument Circle\, next to SPARK! \n
URL:http://circlespark.org/event/original-farmers-market-12/
ATTACH;FMTTYPE=image/jpeg:http://circlespark.org/wp-content/uploads/tempImagekWSYlH-e1718738468660.jpg
END:VEVENT
BEGIN:VEVENT
DTSTART;TZID=America/Indiana/Indianapolis:20250820T120000
DTEND;TZID=America/Indiana/Indianapolis:20250820T130000
DTSTAMP:20260420T085853
CREATED:20250724T190358Z
LAST-MODIFIED:20250724T190358Z
UID:6825-1755691200-1755694800@circlespark.org
SUMMARY:Lunch Break Live! presented by Lake City Bank with Sofi Parker
DESCRIPTION:
URL:http://circlespark.org/event/lunch-break-live-presented-by-lake-city-bank-with-sofi-parker/
ATTACH;FMTTYPE=image/jpeg:http://circlespark.org/wp-content/uploads/0039146989_10.jpg
END:VEVENT
END:VCALENDAR