BEGIN:VCALENDAR
VERSION:2.0
PRODID:-//SPARK on the Circle - ECPv4.5.10.1//NONSGML v1.0//EN
CALSCALE:GREGORIAN
METHOD:PUBLISH
X-WR-CALNAME:SPARK on the Circle
X-ORIGINAL-URL:http://circlespark.org
X-WR-CALDESC:Events for SPARK on the Circle
BEGIN:VEVENT
DTSTART;VALUE=DATE:20250718
DTEND;VALUE=DATE:20250718
DTSTAMP:20260424T100229
CREATED:20250520T154723Z
LAST-MODIFIED:20250701T184650Z
UID:6562-1752796800-1752883199@circlespark.org
SUMMARY:SPARK All-Star Art Market Day 1
DESCRIPTION:
URL:http://circlespark.org/event/spark-x-wnba-art-market-day-1/
ATTACH;FMTTYPE=image/png:http://circlespark.org/wp-content/uploads/SPARK-X-wnba-Art-market-1.png
END:VEVENT
BEGIN:VEVENT
DTSTART;TZID=America/Indiana/Indianapolis:20250718T110000
DTEND;TZID=America/Indiana/Indianapolis:20250718T213000
DTSTAMP:20260424T100229
CREATED:20250701T180020Z
LAST-MODIFIED:20250702T154503Z
UID:6698-1752836400-1752874200@circlespark.org
SUMMARY:All-Star Arts & Culture at SPARK Day 1
DESCRIPTION:All-Star Arts & Culture at SPARK Day 1 — Friday\, July 18:\n\nSPARK All-Star Art Market Day 1 — 12pm – 5pm\nLive Performances — 11am – 5pm\n\n– 11 – 11:30 am — Akustico \n– 1 – 1:30 pm — Hannah Hadley \n– 2:45 – 3:15 pm — Mina Keohane \n– 4:30 – 5pm — Kara Cole \n\nBubble Jim — 2pm – 4pm\nBracelet Making — 11am – 6pm\nFree Postcard Activity 11am – dark\nForensic Friends — 2 – 6pm\n\n\nAll-Star Arts & Culture at SPARK on the Circle is made possible through the SPARK partners (Big Car Collaborative\, Downtown Indy\, Inc.\, and the City of Indianapolis Department of Metropolitan Development — in cooperation with the Indiana War Memorials Commission)\, Indy Arts Council with the City of Indianapolis\, and the WNBA All-Star 2025 Host Committee. \n
URL:http://circlespark.org/event/all-star-arts-culture-at-spark-day-1/
ATTACH;FMTTYPE=image/png:http://circlespark.org/wp-content/uploads/all-star.png
END:VEVENT
BEGIN:VEVENT
DTSTART;TZID=America/Indiana/Indianapolis:20250718T140000
DTEND;TZID=America/Indiana/Indianapolis:20250718T170000
DTSTAMP:20260424T100229
CREATED:20250618T190115Z
LAST-MODIFIED:20250625T200650Z
UID:6634-1752847200-1752858000@circlespark.org
SUMMARY:Bubble Jim!
DESCRIPTION:Come enjoy bubbles on the circle with Garfield Park neighbor\, Bubble Jim! \n\n\nSPARK is a partnership with Downtown Indy @downtownindy the City of Indianapolis @indy_dmd and the Indiana War Memorials Commission – and funded by the Capital Improvements Board. It is a continuation of our work last year and in 2015 on the Circle.\nAt Big Car\, we approach our work at the Circle as a site- and community-specific socially engaged art and creative placemaking project. The SPARK on the Circle pop-up park was collaboratively designed with Indianapolis-based Merritt Chase to be a restorative public place where people of all walks of life can relax\, play\, socialize\, and engage with art and artists in the heart of our city. \n\n\n
URL:http://circlespark.org/event/bubble-jim/
CATEGORIES:Monument Circle,Outdoor Activities,SPARK
ATTACH;FMTTYPE=image/jpeg:http://circlespark.org/wp-content/uploads/54255462452_a9dd724c98_o.jpg
END:VEVENT
END:VCALENDAR