BEGIN:VCALENDAR
VERSION:2.0
PRODID:-//SPARK on the Circle - ECPv4.5.10.1//NONSGML v1.0//EN
CALSCALE:GREGORIAN
METHOD:PUBLISH
X-WR-CALNAME:SPARK on the Circle
X-ORIGINAL-URL:http://circlespark.org
X-WR-CALDESC:Events for SPARK on the Circle
BEGIN:VEVENT
DTSTART;TZID=America/Indiana/Indianapolis:20250704T110000
DTEND;TZID=America/Indiana/Indianapolis:20250704T210000
DTSTAMP:20260420T101411
CREATED:20250630T155358Z
LAST-MODIFIED:20250701T173119Z
UID:6675-1751626800-1751662800@circlespark.org
SUMMARY:July 4th at SPARK on the Circle
DESCRIPTION:SPARK will be open from 11 a.m. until 9 p.m. on Friday\, July 4\, 2025. Please note that we close an hour early on the holiday. \nDrop by and see us on Monument Circle\, and check out Downtown Indy’s Fourth Fest at the American Legion Mall and Indiana War Memorial Grounds. The festival runs from 6 p.m. to 10:30 pm\, and fireworks begin at 10:15 p.m.! \n
URL:http://circlespark.org/event/july-4-at-spark/
ATTACH;FMTTYPE=image/jpeg:http://circlespark.org/wp-content/uploads/53803596020_be3892c888_o-1-1.jpg
END:VEVENT
END:VCALENDAR