BEGIN:VCALENDAR
VERSION:2.0
PRODID:-//SPARK on the Circle - ECPv4.5.10.1//NONSGML v1.0//EN
CALSCALE:GREGORIAN
METHOD:PUBLISH
X-WR-CALNAME:SPARK on the Circle
X-ORIGINAL-URL:http://circlespark.org
X-WR-CALDESC:Events for SPARK on the Circle
BEGIN:VEVENT
DTSTART;TZID=America/Indiana/Indianapolis:20250627T120000
DTEND;TZID=America/Indiana/Indianapolis:20250627T130000
DTSTAMP:20260420T115548
CREATED:20250429T202450Z
LAST-MODIFIED:20250529T165515Z
UID:6544-1751025600-1751029200@circlespark.org
SUMMARY:Drum Circles With The Percussive Arts Society
DESCRIPTION:Come join @rhythmdiscovery for a drum circle on the circle! \nFor this activity\, participants will get the opportunity to learn how to express themselves on hand drums and explore the basics of playing with other people. Working with Rob\, participants will begin making sounds on the instruments and learn some basic rhythms inspired by traditional music. \nSPARK is a partnership with Downtown Indy @downtownindy the City of Indianapolis @indy_dmd and the Indiana War Memorials Commission – and funded by the Capital Improvements Board. It is a continuation of our work last year and in 2015 on the Circle.\nAt Big Car\, we approach our work at the Circle as a site- and community-specific socially engaged art and creative placemaking project. The SPARK on the Circle pop-up park was collaboratively designed with Indianapolis-based Merritt Chase to be a restorative public place where people of all walks of life can relax\, play\, socialize\, and engage with art and artists in the heart of our city. \n
URL:http://circlespark.org/event/drum-circles-with-the-percussive-arts-society-2/
ATTACH;FMTTYPE=image/jpeg:http://circlespark.org/wp-content/uploads/fb7913d083f174424ea48900ef77104fba118ed0e33670de521c081a4f942669-750.jpg
END:VEVENT
END:VCALENDAR