BEGIN:VCALENDAR
VERSION:2.0
PRODID:-//SPARK on the Circle - ECPv4.5.10.1//NONSGML v1.0//EN
CALSCALE:GREGORIAN
METHOD:PUBLISH
X-WR-CALNAME:SPARK on the Circle
X-ORIGINAL-URL:http://circlespark.org
X-WR-CALDESC:Events for SPARK on the Circle
BEGIN:VEVENT
DTSTART;TZID=America/Indiana/Indianapolis:20250618T100000
DTEND;TZID=America/Indiana/Indianapolis:20250618T133000
DTSTAMP:20260420T115446
CREATED:20250429T200223Z
LAST-MODIFIED:20250529T181814Z
UID:6528-1750240800-1750253400@circlespark.org
SUMMARY:Original Farmers Market
DESCRIPTION:The Original Farmers’ Market brings together Indiana farmers\, producers\, and artisans who are providing the critical food access to the Indianapolis community.  The market is located in the South West Quadrant of Monument Circle\, next to SPARK! \nhttps://www.indycm.com/original-farmers-market/ \n
URL:http://circlespark.org/event/original-farmers-market-4/
CATEGORIES:Downtown Indy,Health & Fitness,Monument Circle,Outdoor Activities,SPARK
ATTACH;FMTTYPE=image/jpeg:http://circlespark.org/wp-content/uploads/tempImagekWSYlH-e1718738468660.jpg
END:VEVENT
BEGIN:VEVENT
DTSTART;TZID=America/Indiana/Indianapolis:20250618T120000
DTEND;TZID=America/Indiana/Indianapolis:20250618T130000
DTSTAMP:20260420T115446
CREATED:20250430T171347Z
LAST-MODIFIED:20250616T195451Z
UID:6547-1750248000-1750251600@circlespark.org
SUMMARY:Lunch Break Live with Clockwork Janz
DESCRIPTION:Clockwork is a queer and non-binary musician and culinary artist based in Indianapolis\, Indiana. They are perhaps best known as the lead organizer for the Garfield Park Community Cookbook\, a community sourced cookbook for which they create musical underscore. Much of their work is centered on evoking a sense of wonder in the everyday. As well\, Clockwork is an oboist utilizing methods of free improv. Clock creates poetically scribed recipes to accompany many musical works\, often making soundscapes with food and kitchen equipment\, under their project Tuning Forks. When not creating\, they have a day job as the Director of Creative Talent + Equitable Practices at Arts for Learning Indiana. \n
URL:http://circlespark.org/event/lunch-break-live-with-clockwork-janz/
ATTACH;FMTTYPE=image/jpeg:http://circlespark.org/wp-content/uploads/Clockwork-Janz.jpg
END:VEVENT
END:VCALENDAR