BEGIN:VCALENDAR
VERSION:2.0
PRODID:-//SPARK on the Circle - ECPv4.5.10.1//NONSGML v1.0//EN
CALSCALE:GREGORIAN
METHOD:PUBLISH
X-WR-CALNAME:SPARK on the Circle
X-ORIGINAL-URL:http://circlespark.org
X-WR-CALDESC:Events for SPARK on the Circle
BEGIN:VEVENT
DTSTART;TZID=America/Indiana/Indianapolis:20250604T100000
DTEND;TZID=America/Indiana/Indianapolis:20250604T133000
DTSTAMP:20260420T115246
CREATED:20250429T195232Z
LAST-MODIFIED:20250529T181318Z
UID:6511-1749031200-1749043800@circlespark.org
SUMMARY:Original Farmers Market
DESCRIPTION:The Original Farmers’ Market brings together Indiana farmers\, producers\, and artisans who are providing the critical food access to the Indianapolis community.  The market is located in the South West Quadrant of Monument Circle\, next to SPARK! \nhttps://www.indycm.com/original-farmers-market/ \n
URL:http://circlespark.org/event/original-farmers-market-2/
CATEGORIES:Downtown Indy,Health & Fitness,Monument Circle,Outdoor Activities,SPARK
ATTACH;FMTTYPE=image/jpeg:http://circlespark.org/wp-content/uploads/tempImagekWSYlH-e1718738468660.jpg
END:VEVENT
BEGIN:VEVENT
DTSTART;TZID=America/Indiana/Indianapolis:20250604T120000
DTEND;TZID=America/Indiana/Indianapolis:20250604T130000
DTSTAMP:20260420T115246
CREATED:20250429T194433Z
LAST-MODIFIED:20250603T002653Z
UID:6502-1749038400-1749042000@circlespark.org
SUMMARY:Lunch Break Live with Sylvia Thomas
DESCRIPTION:Sylvia Thomas is an artist in Big Car Collaborative’s long-term residency program. She is a poet and musician who has performed across North America and Europe. At Spark\, she will be performing her relaxing and fun voice loops where audiences can listen to music growing! \n
URL:http://circlespark.org/event/lunch-break-live-with-sylvia-thomas-2/
ATTACH;FMTTYPE=image/jpeg:http://circlespark.org/wp-content/uploads/dscf0933.jpeg
END:VEVENT
END:VCALENDAR