BEGIN:VCALENDAR
VERSION:2.0
PRODID:-//SPARK on the Circle - ECPv4.5.10.1//NONSGML v1.0//EN
CALSCALE:GREGORIAN
METHOD:PUBLISH
X-WR-CALNAME:SPARK on the Circle
X-ORIGINAL-URL:http://circlespark.org
X-WR-CALDESC:Events for SPARK on the Circle
BEGIN:VEVENT
DTSTART;TZID=America/Indiana/Indianapolis:20241130T160000
DTEND;TZID=America/Indiana/Indianapolis:20241130T200000
DTSTAMP:20260420T205805
CREATED:20241112T193312Z
LAST-MODIFIED:20241113T174706Z
UID:6332-1732982400-1732996800@circlespark.org
SUMMARY:SPARK: Holidays on the Circle
DESCRIPTION:Celebrate the holidays with SPARK on the Circle this year! 🎅🎄☃️❄️ \n\nVibe to a live electric violin performance from Cathy Morris from 5-6pm\nView the magical Circle of Lights display\, an Indianapolis tradition\nGet pictures with Santa at Santa’s workshop photo station\nBuy special holiday treats at the Container Cafe\n\nAt the Northwest quad of Monument Circle \n4-8pm\, Saturdays & Sundays\, Nov. 30 – Dec. 22 \n
URL:http://circlespark.org/event/spark-holidays-on-the-circle/
ATTACH;FMTTYPE=image/jpeg:http://circlespark.org/wp-content/uploads/SPARK-Holidays-2024.jpg
END:VEVENT
END:VCALENDAR