BEGIN:VCALENDAR
VERSION:2.0
PRODID:-//SPARK on the Circle - ECPv4.5.10.1//NONSGML v1.0//EN
CALSCALE:GREGORIAN
METHOD:PUBLISH
X-WR-CALNAME:SPARK on the Circle
X-ORIGINAL-URL:http://circlespark.org
X-WR-CALDESC:Events for SPARK on the Circle
BEGIN:VEVENT
DTSTART;TZID=America/Indiana/Indianapolis:20241024T160000
DTEND;TZID=America/Indiana/Indianapolis:20241024T220000
DTSTAMP:20260421T001518
CREATED:20241003T195817Z
LAST-MODIFIED:20241024T154040Z
UID:6272-1729785600-1729807200@circlespark.org
SUMMARY:Late Nights at SPARK - Oct. 24
DESCRIPTION:SPARK on the Circle will be open until 10pm for “Late Nights at SPARK” on Thursday\, Oct. 24! \n  \nThe schedule is as follows: \n  \nOct. 24\n– 7-9pm: “Boot Scoot” line dancing + music event \n  \nWe hope to see you there! 🌃🌙 \n  \nFollow @SparkPlaces on Instagram for updates \n
URL:http://circlespark.org/event/late-nights-at-spark-oct-24/
ATTACH;FMTTYPE=image/png:http://circlespark.org/wp-content/uploads/Late-Nights-at-SPARK-2-1.png
END:VEVENT
BEGIN:VEVENT
DTSTART;TZID=America/Indiana/Indianapolis:20241024T190000
DTEND;TZID=America/Indiana/Indianapolis:20241024T210000
DTSTAMP:20260421T001518
CREATED:20240930T170815Z
LAST-MODIFIED:20241016T154908Z
UID:6245-1729796400-1729803600@circlespark.org
SUMMARY:Boot Scoot
DESCRIPTION:Boot Scoot USA is a Country DJ Party that invites you to hoot and holler along to your favorite country classics from the 90s\, 00s\, and now. Join us for line dance lessons and country music on the circle with DJ John Stamps and Line Dance Instructor Jeff Smilko.\n\n…\n\nSPARK is a partnership with Downtown Indy\, the City of Indianapolis\, and the Indiana War Memorials Commission — and funded by the Capital Improvements Board. It is a continuation of our work last year and in 2015 on the Circle.\n\nAt Big Car\, we approach our work at the Circle as a site- and community-specific socially engaged art and creative placemaking project. The SPARK on the Circle pop-up park was collaboratively designed with Indianapolis-based Merritt Chase to be a restorative public place where people of all walks of life can relax\, play\, socialize\, and engage with art and artists in the heart of our city.\n  \n
URL:http://circlespark.org/event/boot-scoot/
ATTACH;FMTTYPE=image/jpeg:http://circlespark.org/wp-content/uploads/Monument-Boot-Scoot-2-FINAL.jpg
END:VEVENT
END:VCALENDAR