BEGIN:VCALENDAR
VERSION:2.0
PRODID:-//SPARK on the Circle - ECPv4.5.10.1//NONSGML v1.0//EN
CALSCALE:GREGORIAN
METHOD:PUBLISH
X-WR-CALNAME:SPARK on the Circle
X-ORIGINAL-URL:http://circlespark.org
X-WR-CALDESC:Events for SPARK on the Circle
BEGIN:VEVENT
DTSTART;TZID=America/Indiana/Indianapolis:20240906T120000
DTEND;TZID=America/Indiana/Indianapolis:20240906T140000
DTSTAMP:20260421T012110
CREATED:20240702T192718Z
LAST-MODIFIED:20240830T185534Z
UID:6021-1725624000-1725631200@circlespark.org
SUMMARY:Artist Workshop With Stephanie Williams
DESCRIPTION:Come join us at SPARK for an artist workshop with Stephanie Williams\, Make and Take Painted Ceramic Pinch Pots!   \nIn this artist activation\, visitors will be able to make their own ceramic pinch pot out of clay  through William’s guidance\, or paint a ready to take home pot pinched and fired by the artist previously. Pinch pots that are made at this workshop will be taken home by the artist\, fired\, and kept to be used at the next Make and Take Pinch Pot event!  Come join us to paint and pinch at Monument Circle! \n  \nWe at Big Car are teaming up with Downtown Indy and the City of Indianapolis — with support from the Capital Improvement Board and the Indiana War Memorials Commission— to spark Monument Circle with human-scale activities like games\, live music\, artmaking\, and socializing in a comfortable place \n
URL:http://circlespark.org/event/artist-workshop-with-stephanie-williams/
CATEGORIES:Monument Circle,Outdoor Activities,SPARK,Visual Art
ATTACH;FMTTYPE=image/jpeg:http://circlespark.org/wp-content/uploads/throwing-1024x461-1.jpg
END:VEVENT
BEGIN:VEVENT
DTSTART;TZID=America/Indiana/Indianapolis:20240906T170000
DTEND;TZID=America/Indiana/Indianapolis:20240906T190000
DTSTAMP:20260421T012110
CREATED:20240725T171657Z
LAST-MODIFIED:20240905T192847Z
UID:6072-1725642000-1725649200@circlespark.org
SUMMARY:Artist Workshop With John Clark
DESCRIPTION:Make Art and Write Poetry with John Clark! \nJoin Indianapolis-based visual artist\, Big Car co-founder and writer John Clark to make drawings\, poems\, and short stories…or a combination of all three! And we’ll also show you how to make zines\, too! \nWe at Big Car are teaming up with Downtown Indy and the City of Indianapolis — with support from the Capital Improvement Board and the Indiana War Memorials Commission— to spark Monument Circle with human-scale activities like games\, live music\, artmaking\, and socializing in a comfortable place. \nSPARK on the Circle is an ongoing partnership between Big Car Collaborative\, Downtown Indy\, City of Indianapolis Department of Metropolitan Development\, the Capital Improvement Board\, and the Indiana War Memorials Commission. \n
URL:http://circlespark.org/event/artist-workshop-with-john-clark-2/
CATEGORIES:Monument Circle,Outdoor Activities,SPARK,Visual Art
ATTACH;FMTTYPE=image/jpeg:http://circlespark.org/wp-content/uploads/629044e2242d6.image_.jpg
END:VEVENT
END:VCALENDAR