BEGIN:VCALENDAR
VERSION:2.0
PRODID:-//SPARK on the Circle - ECPv4.5.10.1//NONSGML v1.0//EN
CALSCALE:GREGORIAN
METHOD:PUBLISH
X-WR-CALNAME:SPARK on the Circle
X-ORIGINAL-URL:http://circlespark.org
X-WR-CALDESC:Events for SPARK on the Circle
BEGIN:VEVENT
DTSTART;TZID=America/Indiana/Indianapolis:20240831T150000
DTEND;TZID=America/Indiana/Indianapolis:20240831T160000
DTSTAMP:20260421T012012
CREATED:20240702T193006Z
LAST-MODIFIED:20240807T151503Z
UID:6024-1725116400-1725120000@circlespark.org
SUMMARY:Indy Humanities Story Time with Kim Howard
DESCRIPTION:Come join us at SPARK for a Story Time Session hosted by Indy Humanities! \nKim Howard will be reading her debut picture book\, Grace and Box\, which was the Children’s category winner of the 2022 Indiana Authors Awards. She will have songs and games that go with the story. Please feel free to tag her author page on Facebook\, and she will share the posts there as well\, @kimhowardbooks.Attached here is also a longer author biography if you would like to include that as well:\nKim Howard is a children’s book author and former teacher. Her debut picture book Grace and Box was published in 2021 by Feiwel & Friends\, an imprint of Macmillan. Grace and Box is a 2022 Indiana Early Literacy Firefly Award nominee\, a 2022 Panda Book Awards nominee\, and was included on the 2021 Redbud Read Aloud Masterlist for Oklahoma. The School Library Journal called it “a surefire hit for story time.”Kim has wanted to be an author ever since she was little. Now\, she enjoys doing author visits to preschools and elementary schools and inspiring future generations of writers. Her writing has appeared in publications such as Her View from Home\, Nerdy Book Club\, Imagination Soup\, and Scary Mommy.She has her Ph.D. in Curriculum Studies from Indiana University and taught sixth grade in Lafayette\, Indiana. Born and raised in LaPorte\, Indiana\, she now lives in Bloomington\, Indiana with her husband and their three children. \nWe at Big Car are teaming up with Downtown Indy and the City of Indianapolis — with support from the Capital Improvement Board and the Indiana War Memorials Commission— to spark Monument Circle with human-scale activities like games\, live music\, artmaking\, and socializing in a comfortable place.\n\nSPARK on the Circle is an ongoing partnership between Big Car Collaborative\, Downtown Indy\, City of Indianapolis Department of Metropolitan Development\, the Capital Improvement Board\, and the Indiana War Memorials Commission.\n
URL:http://circlespark.org/event/indy-humanities-story-time-2/
CATEGORIES:Monument Circle,Outdoor Activities,SPARK
ATTACH;FMTTYPE=image/jpeg:http://circlespark.org/wp-content/uploads/Kim-Howard1.jpg
END:VEVENT
END:VCALENDAR