BEGIN:VCALENDAR
VERSION:2.0
PRODID:-//SPARK on the Circle - ECPv4.5.10.1//NONSGML v1.0//EN
CALSCALE:GREGORIAN
METHOD:PUBLISH
X-WR-CALNAME:SPARK on the Circle
X-ORIGINAL-URL:http://circlespark.org
X-WR-CALDESC:Events for SPARK on the Circle
BEGIN:VEVENT
DTSTART;TZID=America/Indiana/Indianapolis:20240828T120000
DTEND;TZID=America/Indiana/Indianapolis:20240828T130000
DTSTAMP:20260421T012014
CREATED:20240807T145734Z
LAST-MODIFIED:20240807T145811Z
UID:6108-1724846400-1724850000@circlespark.org
SUMMARY:Lunch Break Live! With Wes Schaaf Presented By Lake City Bank
DESCRIPTION:Wes Schaaf is multi-instrumentalist singer/songwriter from Indy’s north side. Performing a mix of original songs and covers\, they create dreamy\, melodic indie-folk and jazz-inspired sounds around themes of queer/trans identity\, family\, and healing. \nLunch Break Live! is presented by Lake City Bank \nWe at Big Car are teaming up with Downtown Indy and the City of Indianapolis — with support from the Capital Improvement Board and the Indiana War Memorials Commission— to spark Monument Circle with human-scale activities like games\, live music\, artmaking\, and socializing in a comfortable place.\n\nSPARK on the Circle is an ongoing partnership between Big Car Collaborative\, Downtown Indy\, City of Indianapolis Department of Metropolitan Development\, the Capital Improvement Board\, and the Indiana War Memorials Commission.\n
URL:http://circlespark.org/event/lunch-break-live-with-wes-schaaf-presented-by-lake-city-bank/
CATEGORIES:Monument Circle,Music,Outdoor Activities,SPARK
ATTACH;FMTTYPE=image/jpeg:http://circlespark.org/wp-content/uploads/IMG_0434.jpg
END:VEVENT
END:VCALENDAR