BEGIN:VCALENDAR
VERSION:2.0
PRODID:-//SPARK on the Circle - ECPv4.5.10.1//NONSGML v1.0//EN
CALSCALE:GREGORIAN
METHOD:PUBLISH
X-WR-CALNAME:SPARK on the Circle
X-ORIGINAL-URL:http://circlespark.org
X-WR-CALDESC:Events for SPARK on the Circle
BEGIN:VEVENT
DTSTART;TZID=America/Indiana/Indianapolis:20240816T170000
DTEND;TZID=America/Indiana/Indianapolis:20240816T190000
DTSTAMP:20260421T025655
CREATED:20240702T190253Z
LAST-MODIFIED:20240702T190253Z
UID:6007-1723827600-1723834800@circlespark.org
SUMMARY:Artist Workshop With Rob Funkhouser and Landon Caldwell
DESCRIPTION:Join sound artists and musicians Rob Funkhouser and Landon Caldwell for an interactive workshop that is FREE to all! \nWe at Big Car are teaming up with Downtown Indy and the City of Indianapolis — with support from the Capital Improvement Board and the Indiana War Memorials Commission— to spark Monument Circle with human-scale activities like games\, live music\, artmaking\, and socializing in a comfortable place. \n
URL:http://circlespark.org/event/artist-workshop-with-rob-funkhouser-and-landon-caldwell/
CATEGORIES:Monument Circle,Music,Outdoor Activities,SPARK
ATTACH;FMTTYPE=image/jpeg:http://circlespark.org/wp-content/uploads/0026798482_10.jpg
END:VEVENT
END:VCALENDAR