BEGIN:VCALENDAR
VERSION:2.0
PRODID:-//SPARK on the Circle - ECPv4.5.10.1//NONSGML v1.0//EN
CALSCALE:GREGORIAN
METHOD:PUBLISH
X-WR-CALNAME:SPARK on the Circle
X-ORIGINAL-URL:http://circlespark.org
X-WR-CALDESC:Events for SPARK on the Circle
BEGIN:VEVENT
DTSTART;TZID=America/Indiana/Indianapolis:20240814T120000
DTEND;TZID=America/Indiana/Indianapolis:20240814T130000
DTSTAMP:20260421T025656
CREATED:20240702T185553Z
LAST-MODIFIED:20240726T202633Z
UID:6005-1723636800-1723640400@circlespark.org
SUMMARY:Lunch Break Live! With Chreece Producer Hour Presented By Lake City Bank
DESCRIPTION:\nJoin us at SPARK for a live concert by Chreece! \nChreece Producer Hour at Spark is an engaging DJ set showcasing some of the very talented local producers playing Chreece Hip Hop Festival on August 24th. The Fountain Square Plaza stage has been a staple free community stage since 2015 and features over 15 different DJs and producers in the city fest. \nWe at Big Car are teaming up with Downtown Indy and the City of Indianapolis — with support from the Capital Improvement Board and the Indiana War Memorials Commission— to spark Monument Circle with human-scale activities like games\, live music\, artmaking\, and socializing in a comfortable place. \n\n
URL:http://circlespark.org/event/lunch-break-live-with-chreece-preview-presented-by-lake-city-bank-2/
CATEGORIES:Monument Circle,Music,Outdoor Activities,SPARK
ATTACH;FMTTYPE=image/jpeg:http://circlespark.org/wp-content/uploads/https-cdn.evbuc_.com-images-788744009-258096716186-1-original.20240613-033404.jpeg
END:VEVENT
END:VCALENDAR