BEGIN:VCALENDAR
VERSION:2.0
PRODID:-//SPARK on the Circle - ECPv4.5.10.1//NONSGML v1.0//EN
CALSCALE:GREGORIAN
METHOD:PUBLISH
X-WR-CALNAME:SPARK on the Circle
X-ORIGINAL-URL:http://circlespark.org
X-WR-CALDESC:Events for SPARK on the Circle
BEGIN:VEVENT
DTSTART;TZID=America/Indiana/Indianapolis:20240807T120000
DTEND;TZID=America/Indiana/Indianapolis:20240807T130000
DTSTAMP:20260421T025657
CREATED:20240702T183304Z
LAST-MODIFIED:20240702T183304Z
UID:5992-1723032000-1723035600@circlespark.org
SUMMARY:Lunch Break Live! With Rob Funkhouser Presented By Lake City Bank
DESCRIPTION:Come join Rob Funkhouser for a lunchtime concert on the circle! \nLunch Break Live! is presented by Lake City Bank \nWe at Big Car are teaming up with Downtown Indy and the City of Indianapolis — with support from the Capital Improvement Board and the Indiana War Memorials Commission— to spark Monument Circle with human-scale activities like games\, live music\, artmaking\, and socializing in a comfortable place.\n\nSPARK on the Circle is an ongoing partnership between Big Car Collaborative\, Downtown Indy\, City of Indianapolis Department of Metropolitan Development\, the Capital Improvement Board\, and the Indiana War Memorials Commission.\n
URL:http://circlespark.org/event/lunch-break-live-with-rob-funkhouser-presented-by-lake-city-bank/
LOCATION:1 Monument Circle\, Indianapolis \, IN\, 46204\, United States
CATEGORIES:Monument Circle,Music,Outdoor Activities,SPARK
ATTACH;FMTTYPE=image/jpeg:http://circlespark.org/wp-content/uploads/circle-spark-rob-funkhouser.jpg
END:VEVENT
END:VCALENDAR