BEGIN:VCALENDAR
VERSION:2.0
PRODID:-//SPARK on the Circle - ECPv4.5.10.1//NONSGML v1.0//EN
CALSCALE:GREGORIAN
METHOD:PUBLISH
X-WR-CALNAME:SPARK on the Circle
X-ORIGINAL-URL:http://circlespark.org
X-WR-CALDESC:Events for SPARK on the Circle
BEGIN:VEVENT
DTSTART;TZID=America/Indiana/Indianapolis:20240804T170000
DTEND;TZID=America/Indiana/Indianapolis:20240804T190000
DTSTAMP:20260421T025620
CREATED:20240723T141628Z
LAST-MODIFIED:20240801T172310Z
UID:6060-1722790800-1722798000@circlespark.org
SUMMARY:No Rap Sundays with Chreece
DESCRIPTION:Join the Hip-Hop Festival and Cultural Organization Chreece at SPARK for an evening concert set! \nChreece is kicking off August with No Rap On Sunday at Spark on the Monument Circle!  Join us Sunday\, August 4th 6-8pm with your one of the city’s finest female curated R&B kickbacks with DJs Annie D & Sounds by Sasha at the Spark lovely green space.FREE & All Ages!Chreece Producer Hour at Spark is an engaging DJ set showcasing some of the very talented local producers playing Chreece Hip Hop Festival on August 24th. The Fountain Square Plaza stage has been a staple free community stage since 2015 and features over 15 different DJs and producers in the city fest. \nWe at Big Car are teaming up with Downtown Indy and the City of Indianapolis — with support from the Capital Improvement Board and the Indiana War Memorials Commission— to spark Monument Circle with human-scale activities like games\, live music\, artmaking\, and socializing in a comfortable place. \n
URL:http://circlespark.org/event/chreece-no-rap-sundays/
CATEGORIES:Monument Circle,Music,Outdoor Activities,SPARK
ATTACH;FMTTYPE=image/jpeg:http://circlespark.org/wp-content/uploads/PRINT-NROS-18X24_CMYK.jpg
END:VEVENT
END:VCALENDAR