BEGIN:VCALENDAR
VERSION:2.0
PRODID:-//SPARK on the Circle - ECPv4.5.10.1//NONSGML v1.0//EN
CALSCALE:GREGORIAN
METHOD:PUBLISH
X-WR-CALNAME:SPARK on the Circle
X-ORIGINAL-URL:http://circlespark.org
X-WR-CALDESC:Events for SPARK on the Circle
BEGIN:VEVENT
DTSTART;TZID=America/Indiana/Indianapolis:20240726T120000
DTEND;TZID=America/Indiana/Indianapolis:20240726T130000
DTSTAMP:20260421T042526
CREATED:20240628T212158Z
LAST-MODIFIED:20240711T172251Z
UID:5954-1721995200-1721998800@circlespark.org
SUMMARY:Drum Circles With The Percussive Arts Society And Rob Funkhouser
DESCRIPTION:Come join the Percussive Arts Society with Rob Funkhouser at SPARK ! \nWe at Big Car are teaming up with Downtown Indy and the City of Indianapolis — with support from the Capital Improvement Board and the Indiana War Memorials Commission— to spark Monument Circle with human-scale activities like games\, live music\, artmaking\, and socializing in a comfortable place.\n\nSPARK on the Circle is an ongoing partnership between Big Car Collaborative\, Downtown Indy\, City of Indianapolis Department of Metropolitan Development\, the Capital Improvement Board\, and the Indiana War Memorials Commission.\n
URL:http://circlespark.org/event/drum-circles-with-rob-funkhouser-3/
CATEGORIES:Monument Circle,Music,Outdoor Activities,SPARK
ATTACH;FMTTYPE=image/jpeg:http://circlespark.org/wp-content/uploads/Rhythm-Discovery-Center-1.jpg
END:VEVENT
BEGIN:VEVENT
DTSTART;TZID=America/Indiana/Indianapolis:20240726T170000
DTEND;TZID=America/Indiana/Indianapolis:20240726T190000
DTSTAMP:20260421T042526
CREATED:20240630T233004Z
LAST-MODIFIED:20240630T233004Z
UID:5961-1722013200-1722020400@circlespark.org
SUMMARY:Artist Workshop With Christina Hollering
DESCRIPTION:Join artist Christina Hollering in an all-ages cut paper collage workshop celebrating the creative possibilities of paper. Learn how to intuitively create compelling compositions using the principles of design. All materials are provided; just come prepared to cut\, paste\, and play!\nChristina Hollering is a cut paper artist and associate professor at Herron School of Art and Design. Her artwork centers around themes of biology\, the environment\, and the interplay between art and science\, inspiring viewers to contemplate their relationship with nature. \nAt Big Car are teaming up with Downtown Indy and the City of Indianapolis — with support from the Capital Improvement Board and the Indiana War Memorials Commission— to spark Monument Circle with human-scale activities like games\, live music\, artmaking\, and socializing in a comfortable place. \n
URL:http://circlespark.org/event/artist-workshop-with-christina-hollering/
LOCATION:1 Monument Circle\, Indianapolis \, IN\, 46204\, United States
CATEGORIES:Monument Circle,Outdoor Activities,SPARK,Visual Art
ATTACH;FMTTYPE=image/png:http://circlespark.org/wp-content/uploads/Screen-Shot-2024-06-30-at-7.27.40-PM.png
END:VEVENT
END:VCALENDAR