BEGIN:VCALENDAR
VERSION:2.0
PRODID:-//SPARK on the Circle - ECPv4.5.10.1//NONSGML v1.0//EN
CALSCALE:GREGORIAN
METHOD:PUBLISH
X-WR-CALNAME:SPARK on the Circle
X-ORIGINAL-URL:http://circlespark.org
X-WR-CALDESC:Events for SPARK on the Circle
BEGIN:VEVENT
DTSTART;TZID=America/Indiana/Indianapolis:20240724T120000
DTEND;TZID=America/Indiana/Indianapolis:20240724T130000
DTSTAMP:20260421T042425
CREATED:20240628T211842Z
LAST-MODIFIED:20240702T174234Z
UID:5951-1721822400-1721826000@circlespark.org
SUMMARY:Lunch Break Live With Yuri Rodríguez Presented By Lake City Bank
DESCRIPTION:Costa Rican soprano\, artist and educator Yuriria Rodríguez holds the rare privilege of being able to sing in both classical and popular styles with great professionalism\, expression\, and accuracy of style. Reviews have praised Ms. Rodríguez as a singer “with a beautiful voice which recalls a force of nature” (Herald Times\, Bloomington\, IN)\, and as “The real deal” (Fanfare \, November 2011\, USA). In 2006\, she sang the role of Maria in the tango-operita by A. Piazzolla and H.Ferrer\, Maria de Buenos Aires\, at the Buskirk- Chumley Theater\, receiving a standing ovation in a sold out performance. In the classical realm\, Ms. Rodríguez also successfully performed known roles such as \nMost recently\, Yuri sang the role of Sombra\, in the world premiere and +20 performances of Gabriela Ortiz’s Ana y su Sombra\, commissioned by Reimagining Opera for Kids\, a local Opera Company that Yuriria is proudly part of\, and that performs all year round. In 2016\, Yuri was called to be the cover for the role of Mimi in Costa Rica’s National Lyric Opera Production of La Bohème. \nCurrently\, Yuri works as Associate Director of Hispanic Music at Christ Church Cathedral in Indianapolis\, where she conducts the Coro Latinoamericano and develops a bilingual choral program for early music learners. Occasionally\, she can be heard singing as a guest soloist for the Choir of Adult and Choristers of Christ Church. She is a guest artist for the Indiana University Latin Jazz Ensemble. \nCome Join Yuriria Rodríguez at SPARK during Lunch Break Live Presented by Lake City Bank! \nWe at Big Car are teaming up with Downtown Indy and the City of Indianapolis — with support from the Capital Improvement Board and the Indiana War Memorials Commission— to spark Monument Circle with human-scale activities like games\, live music\, artmaking\, and socializing in a comfortable place.\n\nSPARK on the Circle is an ongoing partnership between Big Car Collaborative\, Downtown Indy\, City of Indianapolis Department of Metropolitan Development\, the Capital Improvement Board\, and the Indiana War Memorials Commission.\n
URL:http://circlespark.org/event/lunch-break-live-with-yuri-rodriguez-presented-by-lake-city-bank/
CATEGORIES:Monument Circle,Music,Outdoor Activities,SPARK
ATTACH;FMTTYPE=image/jpeg:http://circlespark.org/wp-content/uploads/97fef3_8999df6a82c84cdb8b64d5b788a1f7bbmv2_d_3216_2136_s_2.jpg
END:VEVENT
END:VCALENDAR