BEGIN:VCALENDAR
VERSION:2.0
PRODID:-//SPARK on the Circle - ECPv4.5.10.1//NONSGML v1.0//EN
CALSCALE:GREGORIAN
METHOD:PUBLISH
X-WR-CALNAME:SPARK on the Circle
X-ORIGINAL-URL:http://circlespark.org
X-WR-CALDESC:Events for SPARK on the Circle
BEGIN:VEVENT
DTSTART;TZID=America/Indiana/Indianapolis:20240712T120000
DTEND;TZID=America/Indiana/Indianapolis:20240712T130000
DTSTAMP:20260421T042551
CREATED:20240620T195835Z
LAST-MODIFIED:20240711T172223Z
UID:5917-1720785600-1720789200@circlespark.org
SUMMARY:Drum Circles With The Percussive Arts Society And Rob Funkhouser
DESCRIPTION:Come join the Percussive Arts Society with Rob Funkhouser at SPARK ! \nWe at Big Car are teaming up with Downtown Indy and the City of Indianapolis — with support from the Capital Improvement Board and the Indiana War Memorials Commission— to spark Monument Circle with human-scale activities like games\, live music\, artmaking\, and socializing in a comfortable place.\n\nSPARK on the Circle is an ongoing partnership between Big Car Collaborative\, Downtown Indy\, City of Indianapolis Department of Metropolitan Development\, the Capital Improvement Board\, and the Indiana War Memorials Commission.\n
URL:http://circlespark.org/event/drum-circles-with-rob-funkhouser-2/
CATEGORIES:Monument Circle,Music,Outdoor Activities,SPARK
ATTACH;FMTTYPE=image/jpeg:http://circlespark.org/wp-content/uploads/Rhythm-Discovery-Center.jpg
END:VEVENT
BEGIN:VEVENT
DTSTART;TZID=America/Indiana/Indianapolis:20240712T170000
DTEND;TZID=America/Indiana/Indianapolis:20240712T190000
DTSTAMP:20260421T042551
CREATED:20240620T200344Z
LAST-MODIFIED:20240702T175121Z
UID:5919-1720803600-1720810800@circlespark.org
SUMMARY:Ink Artist Workshop with Brittany Fukushima
DESCRIPTION:Join SPARK artist in residence Brittany Fukushima for an all-levels ink painting workshop. In this workshop\, you’ll learn basic ink techniques and how to paint intuitively using colors handmade by the artist. See the raw materials that go into ink-making and leave inspired to create your own. All materials are provided! \nAbout: \nBrittany Fukushima is an Indianapolis-based painter and teaching artist who uses their practice to interpret their environment. Drawing and painting become a means to investigate the natural world\, express the intangible\, and to present alternate ways of seeing. Recently\, they have experimented with paint making using foraged pigments. \nTeaching is an integral part of their process as it keeps them in community and provides fresh perspectives. Brittany currently teaches at the Indianapolis Art Center and is a graduate of Herron School of Art and Design. They have exhibited throughout Indianapolis and Chicago and their work has been featured by Butter\, WFYI\, and Pattern Magazine. \nWe at Big Car are teaming up with Downtown Indy and the City of Indianapolis — with support from the Capital Improvement Board and the Indiana War Memorials Commission— to spark Monument Circle with human-scale activities like games\, live music\, artmaking\, and socializing in a comfortable place.\n\nSPARK on the Circle is an ongoing partnership between Big Car Collaborative\, Downtown Indy\, City of Indianapolis Department of Metropolitan Development\, the Capital Improvement Board\, and the Indiana War Memorials Commission.\n
URL:http://circlespark.org/event/ink-artist-workshop-with-brittany-fukushima/
CATEGORIES:Monument Circle,Outdoor Activities,SPARK,Visual Art
ATTACH;FMTTYPE=image/jpeg:http://circlespark.org/wp-content/uploads/Dee_2.jpeg
END:VEVENT
END:VCALENDAR