BEGIN:VCALENDAR
VERSION:2.0
PRODID:-//SPARK on the Circle - ECPv4.5.10.1//NONSGML v1.0//EN
CALSCALE:GREGORIAN
METHOD:PUBLISH
X-WR-CALNAME:SPARK on the Circle
X-ORIGINAL-URL:http://circlespark.org
X-WR-CALDESC:Events for SPARK on the Circle
BEGIN:VEVENT
DTSTART;TZID=America/Indiana/Indianapolis:20240625T100000
DTEND;TZID=America/Indiana/Indianapolis:20240625T140000
DTSTAMP:20260421T054439
CREATED:20240605T142524Z
LAST-MODIFIED:20240605T142524Z
UID:5848-1719309600-1719324000@circlespark.org
SUMMARY:PAW (Indy Humane) w/ CONGA
DESCRIPTION:
URL:http://circlespark.org/event/paw-indy-humane-w-conga/
CATEGORIES:Monument Circle,Outdoor Activities,SPARK
ATTACH;FMTTYPE=image/jpeg:http://circlespark.org/wp-content/uploads/dab72105-5c1c-4467-943e-cd3f0cf493d2_750x422.jpg
END:VEVENT
END:VCALENDAR