BEGIN:VCALENDAR
VERSION:2.0
PRODID:-//SPARK on the Circle - ECPv4.5.10.1//NONSGML v1.0//EN
CALSCALE:GREGORIAN
METHOD:PUBLISH
X-WR-CALNAME:SPARK on the Circle
X-ORIGINAL-URL:http://circlespark.org
X-WR-CALDESC:Events for SPARK on the Circle
BEGIN:VEVENT
DTSTART;TZID=America/Indiana/Indianapolis:20240621T110000
DTEND;TZID=America/Indiana/Indianapolis:20240621T150000
DTSTAMP:20260421T054150
CREATED:20240522T203917Z
LAST-MODIFIED:20240523T175447Z
UID:5791-1718967600-1718982000@circlespark.org
SUMMARY:Aurora Cyanotype Workshop
DESCRIPTION:Cyanotype is a camera-less photography made out in the sun\, rather than in a darkroom. You place objects — such as plants — on top of a piece of photo-treated paper\, and then use the sun to expose the paper. The result is an image that is an exact outline of the object. It’s a fun and magical way to engage photography! Although it may be new to modern people\, cyanotype has been around since photography was invented in the 1800s.Come explore the creative possibilities of this fascinating process! \nThis activity is best suited for artists 7+ years old; minors must be accompanied by an adult. \nSPARK is a partnership with Downtown Indy @downtownindy the City of Indianapolis @indy_dmd and the Indiana War Memorials Commission – and funded by the Capital Improvements Board. It is a continuation of our work last year and in 2015 on the Circle.\nAt Big Car\, we approach our work at the Circle as a site- and community-specific socially engaged art and creative placemaking project. The SPARK on the Circle pop-up park was collaboratively designed with Indianapolis-based Merritt Chase to be a restorative public place where people of all walks of life can relax\, play\, socialize\, and engage with art and artists in the heart of our city. \n
URL:http://circlespark.org/event/aurora-cyanotype-workshop/
CATEGORIES:Monument Circle,SPARK,Visual Art
ATTACH;FMTTYPE=image/jpeg:http://circlespark.org/wp-content/uploads/AnnaAtkins.jpg
END:VEVENT
BEGIN:VEVENT
DTSTART;TZID=America/Indiana/Indianapolis:20240621T120000
DTEND;TZID=America/Indiana/Indianapolis:20240621T140000
DTSTAMP:20260421T054150
CREATED:20240522T204011Z
LAST-MODIFIED:20240614T205223Z
UID:5793-1718971200-1718978400@circlespark.org
SUMMARY:Make Music Indy ISO
DESCRIPTION:On Make Music Day\, musicians of all ages and skill levels share their love of music with communities around the world through free music performances and events on June 21. \nMake Music Day began in France in 1982 as the Fête de la Musique and is now celebrated on the same day in more than 1\,000 cities in 120 countries. Make Music Day made its American debut 19 years ago in New York. Since then\, over 100 cities throughout the country have established city-wide celebrations providing free music listening and music-making opportunities for the community. \nThe musicians performing for this event are Seula Lee (violin)\, Marisa Votapek (violin)\, Ursula Steele (viola)\, James Cooper (cello). They will be performing from 1-2pm.\nFrom 12-2pm\, community members are welcome to come participate in our instrument petting zoo – trying out different types of instruments\, and visit our arts and crafts zone to make their own instruments!\nThis is the second year Make Music Day will be recognized in Indianapolis as a city-wide event. For more information about Make Music Indy\, including a complete list of performers and event times\, please visit www.makemusicday.org/indy. \nSPARK is a partnership with Downtown Indy @downtownindy the City of Indianapolis @indy_dmd and the Indiana War Memorials Commission – and funded by the Capital Improvements Board. It is a continuation of our work last year and in 2015 on the Circle.\nAt Big Car\, we approach our work at the Circle as a site- and community-specific socially engaged art and creative placemaking project. The SPARK on the Circle pop-up park was collaboratively designed with Indianapolis-based Merritt Chase to be a restorative public place where people of all walks of life can relax\, play\, socialize\, and engage with art and artists in the heart of our city. \n
URL:http://circlespark.org/event/make-music-indy-iso/
CATEGORIES:Monument Circle,Music,SPARK
ATTACH;FMTTYPE=image/jpeg:http://circlespark.org/wp-content/uploads/Make-Music-Indy-LOGO-2024.jpg
END:VEVENT
BEGIN:VEVENT
DTSTART;TZID=America/Indiana/Indianapolis:20240621T160000
DTEND;TZID=America/Indiana/Indianapolis:20240621T210000
DTSTAMP:20260421T054150
CREATED:20240618T185801Z
LAST-MODIFIED:20240618T185816Z
UID:5889-1718985600-1719003600@circlespark.org
SUMMARY:Monumental Yoga
DESCRIPTION:\nIndy Yoga Movement (IYM) is proud to serve Indianapolis youth and communities through yoga and mindfulness. \nEvery summer\, IYM invites yogis to the largest yoga event in the city. Please join us for our 11th year on Friday\, June 21 from 4-9PM. \n
URL:http://circlespark.org/event/monumental-yoga-2/
CATEGORIES:Health & Fitness,Monument Circle,Outdoor Activities,SPARK
ATTACH;FMTTYPE=image/jpeg:http://circlespark.org/wp-content/uploads/Emma-Knutson-Photography-Monumental-Yoga-16-scaled.jpg
END:VEVENT
END:VCALENDAR