BEGIN:VCALENDAR
VERSION:2.0
PRODID:-//SPARK on the Circle - ECPv4.5.10.1//NONSGML v1.0//EN
CALSCALE:GREGORIAN
METHOD:PUBLISH
X-WR-CALNAME:SPARK on the Circle
X-ORIGINAL-URL:http://circlespark.org
X-WR-CALDESC:Events for SPARK on the Circle
BEGIN:VEVENT
DTSTART;TZID=America/Indiana/Indianapolis:20240607T170000
DTEND;TZID=America/Indiana/Indianapolis:20240607T190000
DTSTAMP:20260421T054240
CREATED:20240522T201505Z
LAST-MODIFIED:20240523T175814Z
UID:5783-1717779600-1717786800@circlespark.org
SUMMARY:Artist Workshop: Henna with Pam
DESCRIPTION:Join us today to step into the world of intricate patterns and cultural celebration with Pam\, who has been doing henna for around 25 years now. Henna has been around for many centuries as a way to temporarily dye the skin for cosmetic purposes and to color the hair. At first\, henna was smeared on to individuals and did not create the intricate designs made today. There are many steps needed to properly apply henna to an individual. After the henna paste is created\, the henna artist transfers the paste to a narrow piping bag. The henna is then applied depending on the design. After drying\, the cotton ball with lemon juice should be applied to the henna tattoo. The color that will result depends on the time the henna is kept on the skin: the longer you keep it on\, the darker the color will be. After removing\, the henna tattoo will remain for 7-14 days depending on personal skin and daily lifestyles. \nSPARK is a partnership with Downtown Indy @downtownindy the City of Indianapolis @indy_dmd and the Indiana War Memorials Commission – and funded by the Capital Improvements Board. It is a continuation of our work last year and in 2015 on the Circle.\nAt Big Car\, we approach our work at the Circle as a site- and community-specific socially engaged art and creative placemaking project. The SPARK on the Circle pop-up park was collaboratively designed with Indianapolis-based Merritt Chase to be a restorative public place where people of all walks of life can relax\, play\, socialize\, and engage with art and artists in the heart of our city. \n
URL:http://circlespark.org/event/artist-workshop-henna-with-pam/
CATEGORIES:Monument Circle,SPARK
ATTACH;FMTTYPE=image/jpeg:http://circlespark.org/wp-content/uploads/unnamed.jpg
END:VEVENT
END:VCALENDAR