BEGIN:VCALENDAR
VERSION:2.0
PRODID:-//SPARK on the Circle - ECPv4.5.10.1//NONSGML v1.0//EN
CALSCALE:GREGORIAN
METHOD:PUBLISH
X-WR-CALNAME:SPARK on the Circle
X-ORIGINAL-URL:http://circlespark.org
X-WR-CALDESC:Events for SPARK on the Circle
BEGIN:VEVENT
DTSTART;TZID=America/Indiana/Indianapolis:20231030T180000
DTEND;TZID=America/Indiana/Indianapolis:20231030T200000
DTSTAMP:20260421T170036
CREATED:20230929T205428Z
LAST-MODIFIED:20231026T160139Z
UID:5643-1698688800-1698696000@circlespark.org
SUMMARY:Dia de los Muertos Altar Event
DESCRIPTION:Join the Mexico Sister City Committee in an exciting and culturally enriching way for Dia de los Muertos at Spark on the Circle. Dia de los Muertos\, or the Day of the Dead\, is a significant Mexican holiday that honors and remembers loved ones who have passed away. This event aims to bring our community together in a meaningful and festive way.The Dia de los Muertos Altar Event will feature a beautifully crafted traditional Mexican altar\, showcasing elements essential to this important cultural celebration. \n
URL:http://circlespark.org/event/dia-de-los-muertos-altar-event/
END:VEVENT
END:VCALENDAR