BEGIN:VCALENDAR
VERSION:2.0
PRODID:-//SPARK on the Circle - ECPv4.5.10.1//NONSGML v1.0//EN
CALSCALE:GREGORIAN
METHOD:PUBLISH
X-WR-CALNAME:SPARK on the Circle
X-ORIGINAL-URL:http://circlespark.org
X-WR-CALDESC:Events for SPARK on the Circle
BEGIN:VEVENT
DTSTART;TZID=America/Indiana/Indianapolis:20231018T130000
DTEND;TZID=America/Indiana/Indianapolis:20231018T140000
DTSTAMP:20260421T182038
CREATED:20230929T194502Z
LAST-MODIFIED:20230929T194538Z
UID:5596-1697634000-1697637600@circlespark.org
SUMMARY:Drum Circle with Rob Funkhouser
DESCRIPTION:Come join Rob Funkhouser from @rhythmdiscovery for a drum circle on the circle! \n\nFor this activity\, participants will get the opportunity to learn how to express themselves on hand drums and explore the basics of playing with other people. Working with Rob\, participants will begin making sounds on the instruments and learn some basic rhythms inspired by traditional music.\n \n
URL:http://circlespark.org/event/drum-circle-with-rob-funkhouser-4/
END:VEVENT
BEGIN:VEVENT
DTSTART;TZID=America/Indiana/Indianapolis:20231018T160000
DTEND;TZID=America/Indiana/Indianapolis:20231018T180000
DTSTAMP:20260421T182038
CREATED:20230929T194911Z
LAST-MODIFIED:20231013T193719Z
UID:5600-1697644800-1697652000@circlespark.org
SUMMARY:Rachel Leah Cohen Amulet Making
DESCRIPTION:Amulet Making: \nPeople have created small pouch amulets to hold anything with protective energy and value. These are often made with everyday materials already on hand: medicinal plants\, salt\, metal\, stones\, and symbolic objects. The recipes and the names for these amulets vary by place. The ingredients connect us to our ancestors\, the environment\, and the places we live. The pouch can be worn on the body\, kept in a pocket\, or hung up in the home. Come make an amulet for yourself or as a gift for someone else\, as an embodied ritual of care\, connection\, and protection. \nAbout: Rachel Leah Cohn is a visual artist and educator based in Indianapolis.  Her muliti-disciplinary practice is concerned with themes of communication\, mythology and rituals.  She exhibits her work internationally and teaches at Ball State University in Muncie\, IN. \n \n
URL:http://circlespark.org/event/rachel-leah-cohen-amulet-making/
END:VEVENT
END:VCALENDAR