BEGIN:VCALENDAR
VERSION:2.0
PRODID:-//SPARK on the Circle - ECPv4.5.10.1//NONSGML v1.0//EN
CALSCALE:GREGORIAN
METHOD:PUBLISH
X-WR-CALNAME:SPARK on the Circle
X-ORIGINAL-URL:http://circlespark.org
X-WR-CALDESC:Events for SPARK on the Circle
BEGIN:VEVENT
DTSTART;TZID=America/Indiana/Indianapolis:20231017T120000
DTEND;TZID=America/Indiana/Indianapolis:20231017T130000
DTSTAMP:20260421T181911
CREATED:20230929T193232Z
LAST-MODIFIED:20231004T150849Z
UID:5593-1697544000-1697547600@circlespark.org
SUMMARY:Lunch Break Live with Mandog
DESCRIPTION:About:\nA producer/visual artist from Indianapolis\, IN\, Mandog combines elements from everywhere and anywhere and cooks them down into a nice Mandog soup. Hip-hop is his specialty\, but you might find him boppin’ around in other genres as well.\nMandog was the Champion of the 6th Annual Jay Brookinz Beat Battle at The Vogue Theater (2014) and had another first place finish at a Jay Brookinz Battle League round at the Hi-Fi (2015).SPARK is a partnership with Downtown Indy\, the City of Indianapolis\, and the Indiana War Memorials Commission — and funded by the Capital Improvements Board. It is a continuation of our work last year and in 2015 on the Circle.\nAt Big Car\, we approach our work at the Circle as a site- and community-specific socially engaged art and creative placemaking project. The SPARK on the Circle pop-up park was collaboratively designed with Indianapolis-based Merritt Chase to be a restorative public place where people of all walks of life can relax\, play\, socialize\, and engage with art and artists in the heart of our city. \n \n
URL:http://circlespark.org/event/lunch-break-live-with-mandog/
END:VEVENT
END:VCALENDAR