BEGIN:VCALENDAR
VERSION:2.0
PRODID:-//SPARK on the Circle - ECPv4.5.10.1//NONSGML v1.0//EN
CALSCALE:GREGORIAN
METHOD:PUBLISH
X-WR-CALNAME:SPARK on the Circle
X-ORIGINAL-URL:http://circlespark.org
X-WR-CALDESC:Events for SPARK on the Circle
BEGIN:VEVENT
DTSTART;TZID=America/Indiana/Indianapolis:20231012T120000
DTEND;TZID=America/Indiana/Indianapolis:20231012T130000
DTSTAMP:20260421T182002
CREATED:20230929T183827Z
LAST-MODIFIED:20230929T183848Z
UID:5556-1697112000-1697115600@circlespark.org
SUMMARY:Circle Side Chats with Deedee Davis
DESCRIPTION:The Magic Circle \nTalk Description: In October of 1900\, the Fall Festivities Society of Indianapolis promoted a week-long carnival with its central focus being the Magic Circle. Monument Circle was transformed with a dizzying array of attractions\, parades\, performers and animals all in the glow of “electric illuminations.” Yet\, despite all the enchantment\, the Magic Circle Carnival was a one-time marvel in Indianapolis’ history. \nBio: Deedee Davis is a Herron-Morton resident with an interest in Indianapolis history\, specifically historic residential architecture and Greenlawn Cemetery. She oversees digital collections for the Herron School of Art Library at IUPUI. \nCircle Side Chats is in partnership with Indiana Humanities. Indiana Humanities is a statewide nonprofit that infuses the humanities into our daily lives. We do this by providing grants\, convening discussions\, uplifting humanities scholars\, spotlighting humanities organizations and activities\, and creating our own programs that help Hoosiers think\, read and talk. \n \n
URL:http://circlespark.org/event/circle-side-chats-with-deedee-davis/
END:VEVENT
BEGIN:VEVENT
DTSTART;TZID=America/Indiana/Indianapolis:20231012T160000
DTEND;TZID=America/Indiana/Indianapolis:20231012T180000
DTSTAMP:20260421T182002
CREATED:20230929T184429Z
LAST-MODIFIED:20230929T184429Z
UID:5561-1697126400-1697133600@circlespark.org
SUMMARY:Indy Movement Bump City & Bollywood
DESCRIPTION:Bump City with Lauren Curry | October 12th\, 4-5pm\nBump City is an all levels\, all bodies\, all genders\, all good guided dance party. Be there or be somewhere else. Those are your only two choices.\n\nBollywood with Usha Sirimalle | October 12th\, 5-6pm\nUsing a creative mix of technique\, energy\, and emotion\, but most of all massive fun\, Usha will teach participants poses\, grace\, hand and foot movements and expressions.These are all key elements of Bollywood dance\, which allows participants to explore the meanings of songs and dance and act them out.Bollywood is an upbeat fusion dance class that showcases traditional Indian Dance (Bhangra)\, and classical and modern (influenced by Hip Hop and salsa) movement. It is one of the most lively\, vibrant and rhythmic dance styles.\n\n \n
URL:http://circlespark.org/event/indy-movement-bump-city-bollywood/
END:VEVENT
END:VCALENDAR