BEGIN:VCALENDAR
VERSION:2.0
PRODID:-//SPARK on the Circle - ECPv4.5.10.1//NONSGML v1.0//EN
CALSCALE:GREGORIAN
METHOD:PUBLISH
X-WR-CALNAME:SPARK on the Circle
X-ORIGINAL-URL:http://circlespark.org
X-WR-CALDESC:Events for SPARK on the Circle
BEGIN:VEVENT
DTSTART;TZID=America/Indiana/Indianapolis:20231005T120000
DTEND;TZID=America/Indiana/Indianapolis:20231005T130000
DTSTAMP:20260421T181626
CREATED:20230929T175350Z
LAST-MODIFIED:20231005T144149Z
UID:5529-1696507200-1696510800@circlespark.org
SUMMARY:*Canceled* Circle Side Chats with Kevin McKelvey
DESCRIPTION:Making\, Keeping\, and Poeting a Place \nTalk Description: This program will give a brief overview of creative placemaking and placekeeping and discuss the importance of place in the poetry of James Whitcomb Riley\, Mari Evans\, and Etheridge Knight. \nBio: Kevin McKelvey is a place-based poet\, writer\, designer\, and social practice artist who also teaches at University of Indianapolis. His poems have appeared widely in journals\, books\, and as pieces of public art. McKelvey currently serves on the board of Central Indiana Land Trust and regularly consults on grants\, placemaking\, professional writing\, and creative writing. \nCircle Side Chats is in partnership with Indiana Humanities. Indiana Humanities is a statewide nonprofit that infuses the humanities into our daily lives. We do this by providing grants\, convening discussions\, uplifting humanities scholars\, spotlighting humanities organizations and activities\, and creating our own programs that help Hoosiers think\, read and talk. \n \n
URL:http://circlespark.org/event/circle-side-chats-with-kevin-mckelvey/
END:VEVENT
BEGIN:VEVENT
DTSTART;TZID=America/Indiana/Indianapolis:20231005T160000
DTEND;TZID=America/Indiana/Indianapolis:20231005T180000
DTSTAMP:20260421T181626
CREATED:20230920T200335Z
LAST-MODIFIED:20231005T150535Z
UID:5507-1696521600-1696528800@circlespark.org
SUMMARY:*Canceled* Candle Making with Freetown Village
DESCRIPTION:Join Freetown at SPARK for an immersive candle-making experience! Visitors will have the opportunity to learn the art of candle making\, where they’ll create their very own drip candle. It’s a hands-on adventure in the world of candle making that’s perfect for individuals\, families\, and friends looking for a memorable and crafty day out \n
URL:http://circlespark.org/event/candle-making-with-freetown-village/
END:VEVENT
END:VCALENDAR