BEGIN:VCALENDAR
VERSION:2.0
PRODID:-//SPARK on the Circle - ECPv4.5.10.1//NONSGML v1.0//EN
CALSCALE:GREGORIAN
METHOD:PUBLISH
X-WR-CALNAME:SPARK on the Circle
X-ORIGINAL-URL:http://circlespark.org
X-WR-CALDESC:Events for SPARK on the Circle
BEGIN:VEVENT
DTSTART;TZID=America/Indiana/Indianapolis:20230921T120000
DTEND;TZID=America/Indiana/Indianapolis:20230921T130000
DTSTAMP:20260421T195112
CREATED:20230825T175659Z
LAST-MODIFIED:20230905T144555Z
UID:5386-1695297600-1695301200@circlespark.org
SUMMARY:Circle Side Chats with Norm Minnick
DESCRIPTION:Talk Date: September 21 \nRecovering Etheridge Knight \nTalk Description: \nThis talk will discuss the process of recovering Knight’s unpublished and out-of-print works for The Lost Etheridge: Uncollected Poems and the forthcoming book On Etheridge Knight for the University of Michigan Press’s Under Discussion Series. Poems will additionally be shared. \nBio: Norman Minnick is the author of three collections of poetry and editor of several anthologies. Most recently\, he is the editor of The Indianapolis Anthology and The Lost Etheridge: Uncollected Poems of Etheridge Knight. \nHis poems and essays have been published in The Georgia Review\, The Sun\, World Literature Today\, The Writer’s Chronicle\, Oxford American\, and New World Writing\, among others. Visit www.buzzminnick.com for more information. \nThis series is in partnership with Indiana Humanities.Indiana Humanities is a statewide nonprofit that infuses the humanities into our daily lives. We do this by providing grants\, convening discussions\, uplifting humanities scholars\, spotlighting humanities organizations and activities\, and creating our own programs that help Hoosiers think\, read and talk. \n \n
URL:http://circlespark.org/event/circle-side-chats-with-norm-minnick/
END:VEVENT
BEGIN:VEVENT
DTSTART;TZID=America/Indiana/Indianapolis:20230921T160000
DTEND;TZID=America/Indiana/Indianapolis:20230921T180000
DTSTAMP:20260421T195112
CREATED:20230825T175748Z
LAST-MODIFIED:20230825T175748Z
UID:5389-1695312000-1695319200@circlespark.org
SUMMARY:SPARK: Puppet Show
DESCRIPTION:
URL:http://circlespark.org/event/spark-puppet-show/
END:VEVENT
END:VCALENDAR